BEGIN:VCALENDAR
PRODID:NingEventWidget-v1
VERSION:2.0
METHOD:PUBLISH
BEGIN:VEVENT
UID:1171189:Event:26840
DTSTAMP:20260421T145726Z
SUMMARY:Bitters
DESCRIPTION:ALCHEMIST\n\n8/6/2009 10:30 PM at Bitters\n435 South Hunti
 ngton Avenue, Jamaica Plain, Massachusetts 02130\nCost: Always Free\n\
 nAbout Bitters Somewhere at the intersection of Tortoise, Bjork, Steve
  Reich and StereoLab lies Bitters. The eclectic minimalist pop trio is
  a tasty and complex musical tonic consisting of : 1 part drums, 2 par
 ts keys (wow, a vibraphone!), 1 part voice, and a dash of sugar-coated
  tragedy. At once soothing and jarring, melodic and dissonant, the per
 cussive Bitters is sure to give those ails a stir.. Band Members Dave 
 Geller: Drums, Cheryl Etu: Vibraphone, Jude Heichelbech: Voice, Keys, 
 Guitar Influences Radiohead, Stereolab, Tortoise, Bjork, Steve Reich, 
 Sun Ra, The Bad Plus, Count Zero, Portishead, Matmos, Dave Holland, St
 eve Nelson, Harry Parch, Frank Zappa, U2, Depeche Mode, good 80’s po
 p (well, mostly good)..for now... Sounds Like Tortoise, Bjork, Stereol
 ab, Portishead.. Record Label Unsigned\n\nFor more information visit h
 ttp://neighborsforneighbors.org/events/bitters-1
DTSTART:20090807T023000Z
DTEND:20090807T050000Z
CATEGORIES:smooth, jazzy, pop
LOCATION:The Alchemist Lounge
WEBSITE:http://Alchemistlounge.com
URL:http://Alchemistlounge.com
CONTACT:617-477-5741
ORGANIZER;CN=Lyndon:http://neighborsforneighbors.org/profile/Lyndon
ATTACH;FMTTYPE="image/jpeg":http://storage.ning.com/topology/rest/1.0/
 file/get/2245118075?profile=original
ATTENDEE;ROLE=REQ-PARTICIPANT;PARTSTAT=ACCEPTED;RSVP=TRUE;CN=Lyndon:ht
 tp://neighborsforneighbors.org/profile/Lyndon
END:VEVENT
END:VCALENDAR
