BEGIN:VCALENDAR
PRODID:NingEventWidget-v1
VERSION:2.0
METHOD:PUBLISH
BEGIN:VEVENT
UID:1171189:Event:44885
DTSTAMP:20260421T194251Z
SUMMARY:Block Party BBQ
DESCRIPTION:I'm throwing a backyard BBQ for friends and neighbors arou
 nd on Sunday. Anyone that lives nearby can come -- better if you bring
  something.\n\nMore details are at the Eventbrite site linked to below
 . E-mail me with questions.\n\nSorry for the late notice, but we hope 
 to see you there nevertheless.\n\nFor more information visit http://ne
 ighborsforneighbors.org/events/block-party-bbq
DTSTART:20100530T210000Z
DTEND:20100531T020000Z
CATEGORIES:backyard, bbq
LOCATION:Jamaica Plain Central
WEBSITE:http://backyardbbq.eventbrite.com/
URL:http://backyardbbq.eventbrite.com/
CONTACT:857-203-1210
ORGANIZER;CN="Samuel Jordan Sacks":http://neighborsforneighbors.org/pr
 ofile/SamuelJordanSacks
ATTACH;FMTTYPE="image/jpeg":http://storage.ning.com/topology/rest/1.0/
 file/get/2245131120?profile=original
ATTENDEE;ROLE=REQ-PARTICIPANT;PARTSTAT=ACCEPTED;RSVP=TRUE;CN="Samuel J
 ordan Sacks":http://neighborsforneighbors.org/profile/SamuelJordanSack
 s
END:VEVENT
END:VCALENDAR
