BEGIN:VCALENDAR
PRODID:NingEventWidget-v1
VERSION:2.0
METHOD:PUBLISH
BEGIN:VEVENT
UID:1171189:Event:81295
DTSTAMP:20260421T201610Z
SUMMARY:Book Reading: \"Rad Dad: Dispatches from the Frontiers of Fath
 erhood\" - Connolly Library
DESCRIPTION:Tomas Moniz and Jeremy Adam Smith come to Boston to discus
 s their new essay collection \"Rad Dad: Dispatches from the Frontiers 
 of Fatherhood,\" which combines the best pieces from Tom's award-winni
 ng zine \"Rad Dad\" and from Jeremy's blog \"Daddy Dialectic,\" two ki
 ndred publications that have tried to explore parenting as political t
 erritory.   With grace and honesty and strength, Rad Dad’s writers t
 ackle all the issues that other parenting guides are afraid to touch: 
 the brutalities, beauties, and politics of the birth experience, the c
 hallenges of parenting on an equal basis with mothers, the tests faced
  by transgendered and gay fathers, the emotions of sperm donation, and
  parental confrontations with war, violence, racism, and incarceration
 .   \"If buying a gender-neutral pacifier is the most radical thing yo
 u've done as a parent, Rad Dad will nudge you back on track,\" says th
 e SF Weekly. For more information about the book, see https://secure.p
 mpress.org/index.php?l=product_detail&p=361  This is a very impromptu,
  last-minute event (we're also appearing at Lorem Ipsun bookstore the 
 night before!), so please do invite friends who might be interested!  
 More about Tom and Jeremy:  Tomas Moniz edits and writes for the zine 
 Rad Dad, which won a Best of the Bay award from the San Francisco Bay 
 Guardian and an Independent Press Award for Best Zine. He lives with t
 wo amazing daughters, a bunch of chickens, bees, a cat and dog in sout
 h Berkeley.  Jeremy Adam Smith is the father of Liko, age 7; author of
  The Daddy Shift; coeditor of Rad Dad: Dispatches from the Frontiers o
 f Fatherhood; founder of the acclaimed blog Daddy Dialectic; and a 201
 0–11 John S. Knight Journalism Fellow at Stanford University.\n\nFor
  more information visit http://neighborsforneighbors.org/events/book-r
 eading-rad-dad-dispatches-from-the-frontiers-of-fatherhood
DTSTART:20110917T140000Z
DTEND:20110917T153000Z
CATEGORIES:book, reading
LOCATION:Connolly Branch Library
WEBSITE:
URL:
CONTACT:
ORGANIZER;CN=Alex:http://neighborsforneighbors.org/profile/Alex431
ATTACH;FMTTYPE="image/jpeg":http://storage.ning.com/topology/rest/1.0/
 file/get/2245135045?profile=original
ATTENDEE;ROLE=REQ-PARTICIPANT;PARTSTAT=ACCEPTED;RSVP=TRUE;CN=Alex:http
 ://neighborsforneighbors.org/profile/Alex431
END:VEVENT
END:VCALENDAR
