BEGIN:VCALENDAR
PRODID:NingEventWidget-v1
VERSION:2.0
METHOD:PUBLISH
BEGIN:VEVENT
UID:1171189:Event:81674
DTSTAMP:20260421T194826Z
SUMMARY:Booksale - Friends Group of the Egleston Square Branch Library
DESCRIPTION:Booksale at the JP Brewery (in the courtyard near JPNDC an
 d the Sam Adams Tour) to benefit the Friends of the Egleston Square Br
 anch LIbrary.\n\nFor more information visit http://neighborsforneighbo
 rs.org/events/booksale-friends-group-of-the-egleston-square-branch-lib
 rary
DTSTART:20110924T150000Z
DTEND:20110924T190000Z
CATEGORIES:booksale
LOCATION:The Brewery
WEBSITE:http://www.bpl.org/branches/eg_calendar.htm
URL:http://www.bpl.org/branches/eg_calendar.htm
CONTACT:
ORGANIZER:Friends of the Egleston Square Branch Library
ATTACH;FMTTYPE="image/jpeg":
ATTENDEE;ROLE=REQ-PARTICIPANT;PARTSTAT=ACCEPTED;RSVP=TRUE;CN="Brandon 
 Abbs":http://neighborsforneighbors.org/profile/BrandonAbbs
END:VEVENT
END:VCALENDAR
