BEGIN:VCALENDAR
PRODID:NingEventWidget-v1
VERSION:2.0
METHOD:PUBLISH
BEGIN:VEVENT
UID:1171189:Event:107504
DTSTAMP:20260421T184823Z
SUMMARY:Boston Comedy Chicks
DESCRIPTION:Boston's ONLY all female comedy showcase!  Join us for a 
 night of hilarious and creative comedy.  Yes we know it's Easter and 
 Yes we invited Jesus, he loves comedy.\nHope to see you!\n\nFor more i
 nformation visit http://neighborsforneighbors.org/events/boston-comedy
 -chicks
DTSTART:20140420T233000Z
DTEND:20140421T013000Z
CATEGORIES:comedy
LOCATION:Doyle's Cafe
WEBSITE:http://bostoncomedychicks.eventbrite.com
URL:http://bostoncomedychicks.eventbrite.com
CONTACT:
ORGANIZER;CN="Robin Maxfield":http://neighborsforneighbors.org/profile
 /RobinMaxfield800
ATTACH;FMTTYPE="image/jpeg":http://storage.ning.com/topology/rest/1.0/
 file/get/2245142391?profile=original
ATTENDEE;ROLE=REQ-PARTICIPANT;PARTSTAT=ACCEPTED;RSVP=TRUE;CN="Robin Ma
 xfield":http://neighborsforneighbors.org/profile/RobinMaxfield800
END:VEVENT
END:VCALENDAR
