BEGIN:VCALENDAR
PRODID:NingEventWidget-v1
VERSION:2.0
METHOD:PUBLISH
BEGIN:VEVENT
UID:1171189:Event:110306
DTSTAMP:20260421T203900Z
SUMMARY:Boston Fermentation Festival
DESCRIPTION:The Boston Fermentation Festival on September 27th is a fr
 ee festival headlined by one of the world's most renowned fermentation
  revivalists, Sandor Katz. The festival will appeal to all levels of f
 ermenting enthusiasts from novices to aficionados. There will be works
 hops by professional fermenting artisans, a kraut mob to learn the bas
 ics, a competitive pickle-off with some of Boston's most creative chef
 s, authors signing their fermentation-related books, and over a dozen 
 local fermenting vendors on hand to sample & sell their delicious food
  & drink.   To learn more, visit us at www.bostonferments.com.  Join u
 s from 10am-4pm at the Egleston Farmers Market in Jamaica Plain on Sep
 t. 27th!\n\nFor more information visit http://neighborsforneighbors.or
 g/events/boston-fermentation-festival
DTSTART:20140927T140000Z
DTEND:20140927T200000Z
CATEGORIES:festival
LOCATION:Egleston Farmers Market
WEBSITE:http://bostonferments.com
URL:http://bostonferments.com
CONTACT:
ORGANIZER;CN="Lindsay Gray":http://neighborsforneighbors.org/profile/L
 indsayGray
ATTACH;FMTTYPE="image/jpeg":http://storage.ning.com/topology/rest/1.0/
 file/get/2245142574?profile=original
ATTENDEE;ROLE=REQ-PARTICIPANT;PARTSTAT=ACCEPTED;RSVP=TRUE;CN="Lindsay 
 Gray":http://neighborsforneighbors.org/profile/LindsayGray
END:VEVENT
END:VCALENDAR
