BEGIN:VCALENDAR
PRODID:NingEventWidget-v1
VERSION:2.0
METHOD:PUBLISH
BEGIN:VEVENT
UID:1171189:Event:92876
DTSTAMP:20260421T215106Z
SUMMARY:Boston Impromptu: A Jazz Combo playing the “Great American S
 ongbook”
DESCRIPTION:The Boston-based jazz combo BOSTON IMPROMPTU: Yas Ishibash
 i, keyboard and vocals, Bill O’Connor, drums, Roger Mantie, saxophon
 e, and Liz Horwitz, bass, presents a program of songs, ballads and swi
 ng tunes from what is often referred to as “The Great American Songb
 ook,” music from the 30's through the 50's, on Sunday, January 6, 20
 13, at 3:00 p.m. at the historic Loring-Greenough House, 12 South Stre
 et, Jamaica Plain in the 13th season of the Sunday Afternoon at the 
 Greenough House Parlor Concert Series..  Meet the musicians at aftern
 oon tea following the program.      The Sunday Afternoon at the ‘
 Greenough House series recreates the atmosphere of 18th and 19th centu
 ry “musical afternoons” in the 1760 Loring-Greenough House, twice 
 monthly, October to May. Tickets are available at the door: donation $
 15 ($10 seniors, students and JPTC members). Space is limited; reserva
 tions are suggested—call 617-524-3158 or email lghouseconcerts@aim.c
 om. For more information about BOSTON IMPROMPTU see http://sites.googl
 e.com/site/bostonimpromptu/ .  Built in 1760, the Loring-Greenough Hou
 se, a local landmark listed on the Massachusetts and National Register
 s of Historic Places, is located at 12 South Street (at the Civil War 
 Monument) in Jamaica Plain, MA. It is owned and managed by the non-pro
 fit Jamaica Plain Tuesday Club, Inc. as a historic house museum and si
 te for art and music presentations. The Loring-Greenough House is whee
 lchair accessible. For more information on the Loring-Greenough House,
  see www.loring-greenough.org.  For reservations or directions, call (
 617)524-3158, or email  lghouseconcerts@aim.com.  Upcoming concerts i
 n this series:         Sunday, January 20: Mimi Rabson Trio: (Mi
 mi Rabson, Helen Sherrah-Davis, Junko Fujiwara) present repertoire of 
 new chamber music that includes improvisation for string trio. (This i
 s a special concert on a Holiday weekend!!)         Sunday, Febr
 uary 3: Balint Karosi, Harpsichord. A versatile concert organist and r
 ecording artist, Balint Karosi is an accomplished composer, harpsichor
 dist and improviser who is noted for his elegant style, improvisations
 , and for his original compositions.      Sunday,         Feb
 ruary 17: No concert–Presidents’ Day Holiday weekend     Sunday
 , March 3: Pentimento:  Eric Haas, recorders, Olav Chris Hendriksen, 
 archlute\n\nFor more information visit http://neighborsforneighbors.or
 g/events/boston-impromptu-a-jazz-combo-playing-the-great-american-song
 book
DTSTART:20130106T200000Z
DTEND:20130106T230000Z
CATEGORIES:parlor, concert, and, tea
LOCATION:Loring-Greenough House,
WEBSITE:http://www.Loring-Greenough.org
URL:http://www.Loring-Greenough.org
CONTACT:617-524-3158
ORGANIZER;CN="Loring-Greenough House Concerts":http://neighborsforneig
 hbors.org/profile/LoringGreenoughHouseConserts
ATTACH;FMTTYPE="image/jpeg":http://storage.ning.com/topology/rest/1.0/
 file/get/2245136430?profile=original
ATTENDEE;ROLE=REQ-PARTICIPANT;PARTSTAT=ACCEPTED;RSVP=TRUE;CN="Loring-G
 reenough House Concerts":http://neighborsforneighbors.org/profile/Lori
 ngGreenoughHouseConserts
END:VEVENT
END:VCALENDAR
