BEGIN:VCALENDAR
PRODID:NingEventWidget-v1
VERSION:2.0
METHOD:PUBLISH
BEGIN:VEVENT
UID:1171189:Event:82412
DTSTAMP:20260422T024726Z
SUMMARY:Boston Impromptu: \"Great American Songbook\" program
DESCRIPTION:If you missed their program at UFORGE Gallery, you have an
 other chance!\nThe Boston-based jazz trio BOSTON IMPROMPTU: Yas Ishiba
 shi, keyboard and vocals, Bob Wyckoff , trumpet and vocals, and Liz Ho
 rwitz, bass, will open the 12th season of the Sunday Afternoon at the 
 ‘Greenough House Parlor Concert Series, with a program of songs, bal
 lads and swing tunes from what is often referred to as “The Great Am
 erican Songbook,” music from the 30's through the 50's, on Sunday, O
 ctober 16, 2011, at 3:00 p.m. at the historic Loring-Greenough House, 
 12 South Street, Jamaica Plain.Afternoon tea follows the program\n\nFo
 r more information visit http://neighborsforneighbors.org/events/bosto
 n-impromptu-great-american-songbook-program
DTSTART:20111016T190000Z
DTEND:20111016T230000Z
CATEGORIES:parlor, concert, and, tea
LOCATION:Loring-Greenough House,
WEBSITE:http://www.Loring-Greenough.org
URL:http://www.Loring-Greenough.org
CONTACT:617-524-3158
ORGANIZER;CN="Loring-Greenough House Concerts":http://neighborsforneig
 hbors.org/profile/LoringGreenoughHouseConserts
ATTACH;FMTTYPE="image/jpeg":http://storage.ning.com/topology/rest/1.0/
 file/get/2245136430?profile=original
ATTENDEE;ROLE=REQ-PARTICIPANT;PARTSTAT=ACCEPTED;RSVP=TRUE;CN="Loring-G
 reenough House Concerts":http://neighborsforneighbors.org/profile/Lori
 ngGreenoughHouseConserts
END:VEVENT
END:VCALENDAR
