BEGIN:VCALENDAR
PRODID:NingEventWidget-v1
VERSION:2.0
METHOD:PUBLISH
BEGIN:VEVENT
UID:1171189:Event:105635
DTSTAMP:20260421T192343Z
SUMMARY:Boston Marathon Kick-off Party
DESCRIPTION:Join the Franklin Park Coalition 2014 Marathon team in a m
 arathon of pizza at Bella Luna in JP! Admission includes at some great
  door prizes and all-you-can-eat pizza buffet until 7:30 p.m. Raffle a
 nd a cash bar will also be available.\n\nAdvance tickets are $15.00 fo
 r individuals and $35.00 for families. Advance tickets will be availab
 le until midnight on January 21, 2014. Be sure to include the name of 
 the runner you are supporting in the \"comment\" section after you buy
  tickets!\n\nDay of tickets are $20.00 for individuals and $45.00 for 
 families.\n\nFor more information visit http://neighborsforneighbors.o
 rg/events/boston-marathon-kick-off-party
DTSTART:20140122T230000Z
DTEND:20140123T020000Z
CATEGORIES:fundraiser
LOCATION:Bella Luna Restaurant and Milky Way Lounge
WEBSITE:http://www.razoo.com/story/Kickoffparty
URL:http://www.razoo.com/story/Kickoffparty
CONTACT:6174424141
ORGANIZER:FPC Marathon Team
ATTACH;FMTTYPE="image/jpeg":
ATTENDEE;ROLE=REQ-PARTICIPANT;PARTSTAT=ACCEPTED;RSVP=TRUE;CN="Christin
 e Poff":http://neighborsforneighbors.org/profile/ChristinePoff67
END:VEVENT
END:VCALENDAR
