BEGIN:VCALENDAR
PRODID:NingEventWidget-v1
VERSION:2.0
METHOD:PUBLISH
BEGIN:VEVENT
UID:1171189:Event:59177
DTSTAMP:20260421T182237Z
SUMMARY:Boston Mounted Park Rangers - Cocktails & Hors d'ouevres in su
 pport of the Unit
DESCRIPTION:To keep the Boston Park Rangers Mounted Unit \"in the sadd
 le\", private fund-raising is needed. There will be a fund-raiser on M
 onday, Dec. 13 at Jake Wirth Restaurant ($50 in advance; $75 at the do
 or). In addition to cocktails & hors d'ouevres & helping a worthwhile 
 cause, there will be a small auction of sports memorabilia.\n\nIf you 
 cannot attend, but still want to support the Mounted Unit, please send
  checks payable to the \"Justine Mee Liff Fund\" and add \"Park Ranger
 s\" to the memo line; mail to: Emerald Necklace Conservancy, P.O. Box 
 300699, Jamaica Plain, MA 02130.\n<\"http://emeraldnecklace.org/news/p
 arkrangersevent/\">\n\n\nFor info about the 6 horses, check out <\"htt
 p://savebostonshorses.org/adoption/\">\n\nThank you in advance to ever
 yone who can help! No donation is too small or too large!\n\nFor more 
 information visit http://neighborsforneighbors.org/events/boston-mount
 ed-park-rangers
DTSTART:20101213T230000Z
DTEND:20101214T010000Z
CATEGORIES:fundraiser
LOCATION:Jacob Wirth Restaurant
WEBSITE:http://www.google.com/maps/place?cid=17286694013891850738&q=ja
 cob+wirth+restaurant+boston&fb=1&gl=us&hq=jacob+wirth+restaurant&hnear
 =Boston,+MA
URL:http://www.google.com/maps/place?cid=17286694013891850738&q=jacob+
 wirth+restaurant+boston&fb=1&gl=us&hq=jacob+wirth+restaurant&hnear=Bos
 ton,+MA
CONTACT:617-522-2700
ORGANIZER;CN="Sarah Freeman":http://neighborsforneighbors.org/profile/
 SarahFreeman
ATTACH;FMTTYPE="image/jpeg":
ATTENDEE;ROLE=REQ-PARTICIPANT;PARTSTAT=ACCEPTED;RSVP=TRUE;CN="Sarah Fr
 eeman":http://neighborsforneighbors.org/profile/SarahFreeman
END:VEVENT
END:VCALENDAR
