BEGIN:VCALENDAR
PRODID:NingEventWidget-v1
VERSION:2.0
METHOD:PUBLISH
BEGIN:VEVENT
UID:1171189:Event:35142
DTSTAMP:20260421T195432Z
SUMMARY:Boston Police Department Community Meeting with Comish Davis a
 nd Sheriff Cabral
DESCRIPTION:Join Boston Police Commissioner Ed Davis and Command Staff
 , Suffolk County Sheriff Andrea Cabral with State Representative Liz M
 alia, and Local Law Enforcement in an open discussion on the recent in
 crease in street robberies in our area.\n\nFor more information visit 
 http://neighborsforneighbors.org/events/boston-police-department
DTSTART:20100217T000000Z
DTEND:20100217T020000Z
CATEGORIES:meeting
LOCATION:Nate Smith House
WEBSITE:
URL:
CONTACT:
ORGANIZER:BPD
ATTACH;FMTTYPE="image/jpeg":http://storage.ning.com/topology/rest/1.0/
 file/get/2245123173?profile=original
ATTENDEE;ROLE=REQ-PARTICIPANT;PARTSTAT=ACCEPTED;RSVP=TRUE;CN=Katie:htt
 p://neighborsforneighbors.org/profile/Katie
ATTENDEE;ROLE=REQ-PARTICIPANT;PARTSTAT=ACCEPTED;RSVP=TRUE;CN="Joseph P
 orcelli (Chief Neighbor)":http://neighborsforneighbors.org/profile/jos
 ephporcelli
ATTENDEE;ROLE=REQ-PARTICIPANT;PARTSTAT=TENTATIVE;RSVP=TRUE;CN="Lori De
 Santis":http://neighborsforneighbors.org/profile/LoriDeSantis
ATTENDEE;ROLE=REQ-PARTICIPANT;PARTSTAT=TENTATIVE;RSVP=TRUE;CN=sally:ht
 tp://neighborsforneighbors.org/profile/sally
ATTENDEE;ROLE=REQ-PARTICIPANT;PARTSTAT=TENTATIVE;RSVP=TRUE;CN=Josh:htt
 p://neighborsforneighbors.org/profile/joshd
END:VEVENT
END:VCALENDAR
