BEGIN:VCALENDAR
PRODID:NingEventWidget-v1
VERSION:2.0
METHOD:PUBLISH
BEGIN:VEVENT
UID:1171189:Event:89618
DTSTAMP:20260421T200045Z
SUMMARY:Boston Shines in Hyde Square
DESCRIPTION:Hello Neighbors,\n On behalf of Hyde/Jackson Square Main 
 Street, I'd like to invite you to participate in tomorrow's annual Bos
 ton Shines neighborhood clean-up.  Every year teams of volunteers fan
  out across the city to clean up parks, streets, and sidewalks.  Thi
 s year, HJSMS is teaming up with the kids from Hyde Square Task Force 
 for a monumental spring cleaning of our district, from the Hyde Square
  traffic circle to Jackson Square and everything inbetween.\n We are 
 gathering at Mozart Park at 9:30 tomorrow (Saturday 4/28) to pick up s
 upplies and divide up into teams.  The City will be providing trash b
 ags and gloves, but we could use more rakes and brooms, if you can bri
 ng yours along.  We expect to wrap up around noon, so there will stil
 l be time to relax and enjoy the rest of the day.\n Come meet Katie R
 eed, HJSMS's new Interim Executive Director, and the good people of H
 STF, while we make our district not just shine, but sparkle! \n See 
 you tomorrow!\n \n\n\nFor more information visit http://neighborsforn
 eighbors.org/events/boston-shines-in-hyde-square
DTSTART:20120428T133000Z
DTEND:20120428T160000Z
CATEGORIES:spring, cleaning
LOCATION:Mozart Park
WEBSITE:http://www.facebook.com/#!/HydeJacksonSquare
URL:http://www.facebook.com/#!/HydeJacksonSquare
CONTACT:
ORGANIZER;CN="Gretchen Van Ness":http://neighborsforneighbors.org/prof
 ile/GretchenVanNess
ATTACH;FMTTYPE="image/jpeg":http://storage.ning.com/topology/rest/1.0/
 file/get/2245132968?profile=original
ATTENDEE;ROLE=REQ-PARTICIPANT;PARTSTAT=ACCEPTED;RSVP=TRUE;CN="Gretchen
  Van Ness":http://neighborsforneighbors.org/profile/GretchenVanNess
END:VEVENT
END:VCALENDAR
