BEGIN:VCALENDAR
PRODID:NingEventWidget-v1
VERSION:2.0
METHOD:PUBLISH
BEGIN:VEVENT
UID:1171189:Event:55299
DTSTAMP:20260421T200343Z
SUMMARY:Boylston Street Community Garden
DESCRIPTION:What: Boylston Street Community Garden work day\n\nWhen: S
 unday Oct 24th 10am-3pm\n4pm - Food and Music with Freddie\nCelebrate 
 a year of hard work!\nWhere: 195 Boylston St.\n\nCommunity garden work
 day open to all! Come lend a hand to create and beautify a new public 
 space in the heart of Egleston/Brookside. All skill levels welcome, ta
 sks for the day include:\n\n- Rototilling\n\n- Sheet Mulching\n\n- Fal
 l Clean up and weeding\n\nThis is a great opportunity to transform a v
 acant lot in our neighborhood and help define the space that will be t
 he center of community for years to come!\n\nBring gloves if you have 
 them, hand shovels and other tools are useful if you wish to share.\n\
 nFor more information and to join our mailing list, write to: 195boyls
 ton@gmail.com\n\nFor more information visit http://neighborsforneighbo
 rs.org/events/boylston-street-community-1
DTSTART:20101024T140000Z
DTEND:20101024T230000Z
CATEGORIES:community, beautification, work, day
LOCATION:195 Boylston Street
WEBSITE:
URL:
CONTACT:
ORGANIZER;CN="Julie Steinhoff":http://neighborsforneighbors.org/profil
 e/JulieSteinhoff
ATTACH;FMTTYPE="image/jpeg":
ATTENDEE;ROLE=REQ-PARTICIPANT;PARTSTAT=ACCEPTED;RSVP=TRUE;CN="Julie St
 einhoff":http://neighborsforneighbors.org/profile/JulieSteinhoff
END:VEVENT
END:VCALENDAR
