BEGIN:VCALENDAR
PRODID:NingEventWidget-v1
VERSION:2.0
METHOD:PUBLISH
BEGIN:VEVENT
UID:1171189:Event:53746
DTSTAMP:20260421T200209Z
SUMMARY:Boylston Street Community Garden
DESCRIPTION:What: Boylston Street Community Garden work day\n\nWhen: O
 ct 2nd 10am-3pm\n\nWhere: 195 Boylston St.\n\nCommunity garden workday
  open to all! Come lend a hand to create and beautify a new public spa
 ce in the heart of Egleston/Brookside. All skill levels welcome, tasks
  for the day\ninclude:\n\n- Designing a permaculture garden\n\n- Archw
 ay entrance and other art projects\n\n- Fall shade tracking\n\n- Bike 
 powered weed whacking\n\n- Fall clean-up and perennial planting\n\nThi
 s is a great opportunity to transform a vacant lot in our neighborhood
  and help define the space that will be the center of community for ye
 ars to come!\n\nBring gloves if you have them, hand shovels and other 
 tools are useful if you wish to share.\n\nFor more information and to 
 join our mailing list, write to: 195boylston@gmail.com\n\nFor more inf
 ormation visit http://neighborsforneighbors.org/events/boylston-street
 -community
DTSTART:20101002T140000Z
DTEND:20101002T190000Z
CATEGORIES:community, garden, work, day
LOCATION:the new community garden
WEBSITE:
URL:
CONTACT:
ORGANIZER:Pueblo Boston
ATTACH;FMTTYPE="image/jpeg":
ATTENDEE;ROLE=REQ-PARTICIPANT;PARTSTAT=ACCEPTED;RSVP=TRUE;CN="Julie St
 einhoff":http://neighborsforneighbors.org/profile/JulieSteinhoff
END:VEVENT
END:VCALENDAR
