BEGIN:VCALENDAR
PRODID:NingEventWidget-v1
VERSION:2.0
METHOD:PUBLISH
BEGIN:VEVENT
UID:1171189:Event:82316
DTSTAMP:20260421T232224Z
SUMMARY:Brakes Repair Class
DESCRIPTION:Achy-brakey bike? We'll cover fixing various brake issues 
 and learning about different kinds of brakes. This is a hands-on repai
 r class; bring your bicycle! $30/person. Register in the shop or call 
 617-524-2453.\n\nFor more information visit http://neighborsforneighbo
 rs.org/events/brakes-repair-class
DTSTART:20111020T231500Z
DTEND:20111021T021500Z
CATEGORIES:"repair class", "bike repair class"
LOCATION:Ferris Wheels Bike Shop
WEBSITE:http://www.ferriswheelsbikeshop.com
URL:http://www.ferriswheelsbikeshop.com
CONTACT:617-524-2453
ORGANIZER;CN="Ferris Wheels Bike Shop":http://neighborsforneighbors.or
 g/profile/FerrisWheelsBikeShop
ATTACH;FMTTYPE="image/jpeg":http://storage.ning.com/topology/rest/1.0/
 file/get/2245136070?profile=original
ATTENDEE;ROLE=REQ-PARTICIPANT;PARTSTAT=ACCEPTED;RSVP=TRUE;CN="Ferris W
 heels Bike Shop":http://neighborsforneighbors.org/profile/FerrisWheels
 BikeShop
END:VEVENT
END:VCALENDAR
