BEGIN:VCALENDAR
PRODID:NingEventWidget-v1
VERSION:2.0
METHOD:PUBLISH
BEGIN:VEVENT
UID:1171189:Event:70614
DTSTAMP:20260421T220620Z
SUMMARY:Bread and Bones
DESCRIPTION:Bread and Bones is an award winning Vermont-based acoustic
  trio performing original music that is steeped in tradition, but of i
 ts own time. It is music that pulls you in and paints its landscape in
  your imagination. Their songs have been called well crafted, soulful,
  rootsy, haunting and intelligently infectious.Bread and Bones is Rich
 ard Ruane on vocals, guitar, tenor and 5 string banjos, mandolin and u
 kulele; Beth Duquette on vocals and Mitch Barron on fretless, fretted 
 and upright basses and vocals.http://www.breadandbones.com/https://www
 .facebook.com/pages/Bread-and-Bones/64184636888http://sites.google.com
 /site/notlobmusic\nSuggested donation $9 in advance or $12 at the door
 . Reservations to notlobreservations at gmail.com\n \n\n\n\nFor more 
 information visit http://neighborsforneighbors.org/events/bread-and-bo
 nes
DTSTART:20110514T000000Z
DTEND:20110514T020000Z
CATEGORIES:acoustic, concert, "jamaica plain"
LOCATION:Loring-Greenough House
WEBSITE:http://maps.google.com/maps?f=q&source=s_q&hl=en&geocode=&q=12
 +south+street+02130&aq=&sll=42.443759,-71.622286&sspn=0.008867,0.02272
 4&ie=UTF8&hq=&hnear=12+South+St,+Boston,+Massachusetts+02130&z=16
URL:http://maps.google.com/maps?f=q&source=s_q&hl=en&geocode=&q=12+sou
 th+street+02130&aq=&sll=42.443759,-71.622286&sspn=0.008867,0.022724&ie
 =UTF8&hq=&hnear=12+South+St,+Boston,+Massachusetts+02130&z=16
CONTACT:
ORGANIZER;CN="Jeff Boudreau":http://neighborsforneighbors.org/profile/
 JeffBoudreau
ATTACH;FMTTYPE="image/jpeg":http://storage.ning.com/topology/rest/1.0/
 file/get/2245132591?profile=original
ATTENDEE;ROLE=REQ-PARTICIPANT;PARTSTAT=ACCEPTED;RSVP=TRUE;CN=Loay:http
 ://neighborsforneighbors.org/profile/Loay
ATTENDEE;ROLE=REQ-PARTICIPANT;PARTSTAT=ACCEPTED;RSVP=TRUE;CN="Jeff Bou
 dreau":http://neighborsforneighbors.org/profile/JeffBoudreau
END:VEVENT
END:VCALENDAR
