BEGIN:VCALENDAR
PRODID:NingEventWidget-v1
VERSION:2.0
METHOD:PUBLISH
BEGIN:VEVENT
UID:1171189:Event:93031
DTSTAMP:20260421T172310Z
SUMMARY:Bread & Puppet Theater's 50th anniversary events in the Cyclor
 ama: \"The Possibilitarians\" and \"Dead Man Rises\" w/ \"The Circus o
 f the Possibilitarians\" and more!  -- Jan. 21-27, 2013
DESCRIPTION:Bread and Puppet Theater presents The Possibilitarians and
  Dead Man Rises, along with The Circus of the Possibilitarians (family
 -friendly). Performances and Cheap Art Sale run January 24 through 27,
  as well as an Art Exhibit running the week of January 21 through Janu
 ary 27. All held in the Cyclorama at the Boston Center for the Arts (B
 CA), 539 Tremont St., South End, Boston [conveniently located near the
  MBTA Orange Line & bus connections]. Wheelchair accessible. Tickets f
 or the performances available for purchase [cash or check only] in the
  Cyclorama one hour before each performance. For advance tickets, log 
 onto www.breadandpuppet.org or call 866-811-4111 (toll free). For furt
 her information regarding the week’s events, call the BCA’s Bread
  and Puppet Theater information line at 617-286-6694 or visit www.bcao
 nline.org.  Commencing its 50th anniversary of presenting in-earnest s
 ocio-political puppetry, the long-standing award-winning Vermont-based
  Bread & Puppet Theater, featuring Artistic Director Peter Schumann an
 d his troupe of puppeteers, returns for its 6th annual visit to the C
 yclorama at the Boston Center for the Arts, bringing their signature p
 owerful imagery, masked characters, and giant papier-mâché puppets. 
 This year, the one week residency includes the evening double bill of 
 The Possibilitarians and Dead Man Rises (recommended for ages 12 & old
 er) and weekend matinee performances of The Circus of the Possibilitar
 ians (for children of all ages), along with a week-long political art 
 installation (running January 21-27, with an art opening on January 21
 ), the sale of Bread & Puppet’s legendary Cheap Art, and the opportu
 nity to savor Schumann’s home-made sourdough rye bread spread with g
 arlic-laden aioli.  All the visuals are created by Schumann, including
  sculpting and painting of all the major masks and puppets, with input
  from the company. Although Bread & Puppet events have a seriousness o
 f purpose — a few laughs are always thrown in!\n\nFor more informat
 ion visit http://neighborsforneighbors.org/events/bread-puppet-theater
 -s-50th-anniversary-events-in-the-cyclorama
DTSTART:20130121T230000Z
DTEND:20130128T013000Z
CATEGORIES:puppetry, puppet, theater, political, performance, art
LOCATION:Cyclorama at the Boston Center for the Arts (BCA)
WEBSITE:http://www.bcaonline.org
URL:http://www.bcaonline.org
CONTACT:617-286-6694
ORGANIZER;CN="Mary Curtin":http://neighborsforneighbors.org/profile/Ma
 ryCurtin
ATTACH;FMTTYPE="image/jpeg":http://storage.ning.com/topology/rest/1.0/
 file/get/2245140205?profile=original
ATTENDEE;ROLE=REQ-PARTICIPANT;PARTSTAT=ACCEPTED;RSVP=TRUE;CN="Mary Cur
 tin":http://neighborsforneighbors.org/profile/MaryCurtin
END:VEVENT
END:VCALENDAR
