BEGIN:VCALENDAR
PRODID:NingEventWidget-v1
VERSION:2.0
METHOD:PUBLISH
BEGIN:VEVENT
UID:1171189:Event:105729
DTSTAMP:20260421T174039Z
SUMMARY:Bread & Puppet Theater: \"The Shatterer of Worlds\" performanc
 es in the Cyclorama, Jan. 23-Feb. 2, 2014
DESCRIPTION:Bread & Puppet Theater: The Shatterer of Worlds, a walkabo
 ut performance running January 23 through February 2, 2014. Week one: 
 Thurs.-Sun.; week two: Wed.-Sun. All shows at 7:00 pm; $15 general adm
 ission, $12 for students, seniors, groups of 6 & more. Bread & aioli s
 erved and Cheap Art sold after each show. Tickets for the performances
  available for purchase in the Cyclorama [cash or check only] one hour
  before each show. For advance tickets: www.theatermania.com, 866-811-
 4111 (toll free). For further information, call the Boston-area Bread 
 & Puppet Theater information line at 617-286-6694 or visit www.breadan
 dpuppet.org.   The award-winning Bread & Puppet Theater from Vermontâ€
 ™s Northeast Kingdom presents their The Shatterer of Worlds (chapel wi
 th naturalization services for applicants requesting citizenship in th
 e shattered world), a walkabout political puppet performance, envelopi
 ng audience and performers alike within the Cyclorama. \n\nFor more in
 formation visit http://neighborsforneighbors.org/events/bread-puppet-t
 heater-the-shatterer-of-worlds-performances-in-the
DTSTART:20140124T000000Z
DTEND:20140203T000000Z
CATEGORIES:theater, puppet, political, experimental, performance, art
LOCATION:Cyclorama at the Boston Center for the Arts (BCA)
WEBSITE:http://www.breadandpuppet.org
URL:http://www.breadandpuppet.org
CONTACT:617-286-6694
ORGANIZER:Mary Curtin (on behalf of Bread & Puppet Theater)
ATTACH;FMTTYPE="image/jpeg":http://storage.ning.com/topology/rest/1.0/
 file/get/2245142255?profile=original
ATTENDEE;ROLE=REQ-PARTICIPANT;PARTSTAT=ACCEPTED;RSVP=TRUE;CN="Mary Cur
 tin":http://neighborsforneighbors.org/profile/MaryCurtin
END:VEVENT
END:VCALENDAR
