BEGIN:VCALENDAR
PRODID:NingEventWidget-v1
VERSION:2.0
METHOD:PUBLISH
BEGIN:VEVENT
UID:1171189:Event:68259
DTSTAMP:20260421T231555Z
SUMMARY:Breaking Away at Bike Movie Night
DESCRIPTION:﻿﻿﻿﻿﻿Get in the mood for the spring biking seaso
 n! Ferris Wheels Bike Shop and Boston City Councilor Matt O’ Malley 
 bring you bike movie nights at Agassiz Community Center. Tonigt's movi
 e is Breaking Away, starring Dennis Quaid and Dennis Christopher (1979
 ). Four teenagers in Bloomington, Indiana, who have graduated from hig
 h school, are not sure what they want to do with their lives. One of t
 he boys is obsessed with cycling and seeks to find himself through com
 petitive cycling. Academy Award winner and fan favorite! PG. This even
 t is FREE. Popcorn and soda available. For information, contact Ferris
  Wheels Bike Shop, 66 South Street, 617-524-BIKE, or Councilor O’ Ma
 lley’s office, 617-635-4220.\n\nFor more information visit http://ne
 ighborsforneighbors.org/events/breaking-away-at-bike-movie
DTSTART:20110506T223000Z
DTEND:20110507T000000Z
CATEGORIES:"movie night"
LOCATION:Agassiz Community Center
WEBSITE:http://maps.google.com/maps?f=q&source=s_q&hl=en&geocode=&q=20
 +child+street,+jamaica+plain,+ma+02130&aq=&sll=37.0625,-95.677068&sspn
 =32.38984,78.662109&ie=UTF8&hq=&hnear=20+Child+St,+Massachusetts+02130
 &z=16
URL:http://maps.google.com/maps?f=q&source=s_q&hl=en&geocode=&q=20+chi
 ld+street,+jamaica+plain,+ma+02130&aq=&sll=37.0625,-95.677068&sspn=32.
 38984,78.662109&ie=UTF8&hq=&hnear=20+Child+St,+Massachusetts+02130&z=1
 6
CONTACT:617-524-2453
ORGANIZER:Ferris Wheels Bike Shop and Councilor Matt O'Malley
ATTACH;FMTTYPE="image/jpeg":http://storage.ning.com/topology/rest/1.0/
 file/get/2245132635?profile=original
ATTENDEE;ROLE=REQ-PARTICIPANT;PARTSTAT=ACCEPTED;RSVP=TRUE;CN="Ferris W
 heels Bike Shop":http://neighborsforneighbors.org/profile/FerrisWheels
 BikeShop
ATTENDEE;ROLE=REQ-PARTICIPANT;PARTSTAT=TENTATIVE;RSVP=TRUE;CN="Dana Or
 tegon":http://neighborsforneighbors.org/profile/DanaOrtegon
END:VEVENT
END:VCALENDAR
