BEGIN:VCALENDAR
PRODID:NingEventWidget-v1
VERSION:2.0
METHOD:PUBLISH
BEGIN:VEVENT
UID:1171189:Event:82354
DTSTAMP:20260422T010538Z
SUMMARY:Buddhist Meditation Classes
DESCRIPTION:Create the Life You Want: The Power of Actions & EffectsTH
 URSDAY nights, Oct 20 - Nov 17, 7 - 8:30pmOct 20 | Understanding the P
 ower of Actions and EffectsOct 27 | Paying Attention — Seeing Effect
 s Through Our ActionsNov 3 |  Changing Our Lives Through the Power of
  Our ActionsNov 10 | How Our Actions Impact Us and Others in the Futur
 eNov 17 | Six Ways to Improve the Power of Our ActionsWe often ask our
 selves questions about why things happen in our lives and the world ar
 ound us. Navigating our lives can be confusing when we are unclear abo
 ut  “why” something has happened this way versus that way.\nIn th
 is series, Kelsang Chokyi will reveal how the power of our actions act
 ually creates our experiences; this is called karma. We will also lear
 n how we have the great potential to change our lives through improvin
 g the beneficial power of our actions. No meditation experience is nec
 essary. Everyone is welcome!No pre-registration required.  \nFor more
  information, www.MeditationInMass.org or call508 979-8277.Cost | $1
 0 per classLocation | St. John's Episcopal Church, 7 Revere Street (cr
 oss street Roanoke Ave) - classes in  Parish House (the attached buil
 ding to the right of the church) Please enter through red door on Reve
 re Street.\n\nFor more information visit http://neighborsforneighbors.
 org/events/buddhist-meditation-classes-10
DTSTART:20111020T230000Z
DTEND:20111118T013000Z
CATEGORIES:meditation, classes, class, awareness
LOCATION:St. John's Episcopal Church
WEBSITE:http://MeditationInMass.org
URL:http://MeditationInMass.org
CONTACT:508 979-8277
ORGANIZER;CN="Debra Acquavella":http://neighborsforneighbors.org/profi
 le/DebraAcquavella
ATTACH;FMTTYPE="image/jpeg":http://storage.ning.com/topology/rest/1.0/
 file/get/2245130742?profile=original
ATTENDEE;ROLE=REQ-PARTICIPANT;PARTSTAT=ACCEPTED;RSVP=TRUE;CN="Debra Ac
 quavella":http://neighborsforneighbors.org/profile/DebraAcquavella
END:VEVENT
END:VCALENDAR
