BEGIN:VCALENDAR
PRODID:NingEventWidget-v1
VERSION:2.0
METHOD:PUBLISH
BEGIN:VEVENT
UID:1171189:Event:82247
DTSTAMP:20260421T201732Z
SUMMARY:Buddhist Meditation Classes
DESCRIPTION:Harmony for the Holidays THURSDAY nights | Dec 1 - Dec 15
 , 7-8:30pmDec 1 | Removing the main obstacles to harmonyDec 8 | Lettin
 g go of old habitsDec 15 | How to create harmony in our life‘Tis the
  season, to be jolly. As holiday festivities move into full swing, som
 etimes it’s hard to generate that joyful feeling. In this special ho
 liday series, we can learn how to shift our views away from expectatio
 ns and stress and back into the joy of giving to others.\nThis short s
 eries is a wonderful gift you can give to yourself (it will also benef
 it others). No meditation experience is necessary. Everyone is welcome
 !No pre-registration required.  For more information, www.Meditation
 InMass.org or call508 979-8277Cost | $10 per classLocation | St. John
 's Episcopal Church, 7 Revere Street (cross street Roanoke Ave) - clas
 ses in  Parish House (the attached building to the right of the churc
 h) Please enter through red door on Revere Street.\n\n\nFor more infor
 mation visit http://neighborsforneighbors.org/events/buddhist-meditati
 on-classes-11
DTSTART:20111202T000000Z
DTEND:20111216T013000Z
CATEGORIES:meditation, classes, class, awareness, health
LOCATION:St. John's Episcopal Church
WEBSITE:http://www.MeditationInMass.org
URL:http://www.MeditationInMass.org
CONTACT:508 979-8277
ORGANIZER;CN="Debra Acquavella":http://neighborsforneighbors.org/profi
 le/DebraAcquavella
ATTACH;FMTTYPE="image/jpeg":http://storage.ning.com/topology/rest/1.0/
 file/get/2245130742?profile=original
ATTENDEE;ROLE=REQ-PARTICIPANT;PARTSTAT=ACCEPTED;RSVP=TRUE;CN="Debra Ac
 quavella":http://neighborsforneighbors.org/profile/DebraAcquavella
END:VEVENT
END:VCALENDAR
