BEGIN:VCALENDAR
PRODID:NingEventWidget-v1
VERSION:2.0
METHOD:PUBLISH
BEGIN:VEVENT
UID:1171189:Event:73275
DTSTAMP:20260421T212448Z
SUMMARY:Buddhist Meditation Classes
DESCRIPTION:In this new meditation series, learn practical ways to let
  go of negative states of mind that hold us back. Through meditation, 
 experience how to shift these limiting views to enjoy living more ligh
 tly. Classes include a short talk and guided meditation. No meditation
  experience is necessary. Everyone is welcome!First class of series is
  FREE!!$8 for the class. For more information, please email at info@me
 ditationinmass.org or call 508.979.8277.June 8 - 29 | 7:00 - 8:00pm\nÂ
  \nFREE PARKING IN CHURCH LOT ACROSS THE STREET.Â  Enter through door 
 on back left side of church.Public transport directions: 2-minute walk
  from the T. Take the Orange Line to Green St. station.\n\nFor more in
 formation visit http://neighborsforneighbors.org/events/buddhist-medit
 ation-classes-6
DTSTART:20110608T230000Z
DTEND:20110609T000000Z
CATEGORIES:meditation, relaxation
LOCATION:Hope Central Church
WEBSITE:http://www.meetup.com/Serlingpa-Buddhist-Meditation-Center-JP/
URL:http://www.meetup.com/Serlingpa-Buddhist-Meditation-Center-JP/
CONTACT:508-979-8277
ORGANIZER;CN="Debra Acquavella":http://neighborsforneighbors.org/profi
 le/DebraAcquavella
ATTACH;FMTTYPE="image/jpeg":http://storage.ning.com/topology/rest/1.0/
 file/get/2245132710?profile=original
ATTENDEE;ROLE=REQ-PARTICIPANT;PARTSTAT=ACCEPTED;RSVP=TRUE;CN="Debra Ac
 quavella":http://neighborsforneighbors.org/profile/DebraAcquavella
END:VEVENT
END:VCALENDAR
