BEGIN:VCALENDAR
PRODID:NingEventWidget-v1
VERSION:2.0
METHOD:PUBLISH
BEGIN:VEVENT
UID:1171189:Event:73118
DTSTAMP:20260421T214536Z
SUMMARY:Buddhist Meditation Classes
DESCRIPTION:In this new meditation series, learn practical ways to let
  go of negative states of mind that hold us back. Through meditation, 
 experience how to shift these limiting views to enjoy living more ligh
 tly.   Classes include a short talk and guided meditation. No meditati
 on experience is necessary. Everyone is welcome!  $8 for the class. Fo
 r more information, please email at info@meditationinmass.org or call 
 508.979.8277.  FREE PARKING IN CHURCH LOT ACROSS THE STREET.  Enter t
 hrough door on back left side of church.  Public transport directions:
  2-minute walk from the T. Take the Orange Line to Green St. station \
 n\nFor more information visit http://neighborsforneighbors.org/events/
 buddhist-meditation-classes-9
DTSTART:20110629T230000Z
DTEND:20110630T000000Z
CATEGORIES:meditation, relaxation
LOCATION:Hope Central Church
WEBSITE:http://www.meetup.com/Serlingpa-Buddhist-Meditation-Center-JP/
URL:http://www.meetup.com/Serlingpa-Buddhist-Meditation-Center-JP/
CONTACT:508-979-8277
ORGANIZER;CN="Debra Acquavella":http://neighborsforneighbors.org/profi
 le/DebraAcquavella
ATTACH;FMTTYPE="image/jpeg":http://storage.ning.com/topology/rest/1.0/
 file/get/2245132710?profile=original
ATTENDEE;ROLE=REQ-PARTICIPANT;PARTSTAT=ACCEPTED;RSVP=TRUE;CN="Debra Ac
 quavella":http://neighborsforneighbors.org/profile/DebraAcquavella
END:VEVENT
END:VCALENDAR
