BEGIN:VCALENDAR
PRODID:NingEventWidget-v1
VERSION:2.0
METHOD:PUBLISH
BEGIN:VEVENT
UID:1171189:Event:26726
DTSTAMP:20260421T150730Z
SUMMARY:Building Communities Online and Offline
DESCRIPTION:The New Prosperity Initiative (NPi) will host a speakers p
 anel and community dialogue, \"Building Communities Online and Offline
 \" on Thursday, August 6th, 2009. NPi dialogues are an opportunity to 
 hear first-hand stories of community activism from local leaders and t
 o discuss innovative projects happening in the greater Boston area.Thi
 s event is free and open to the public and will take place in the Boar
 d Room at City Year Headquarters, 287 Columbus Ave, Boston, MA from 6:
 30 p.m. to 8:00 p.m. click for directions\nSpeakers include:\n\n-Dave 
 McLaughlin, Executive Director of Boston World Partnerships\n\n-Joseph
  Porcelli, Founder and Chief Executive Neighbor at Neighbors for Neigh
 bors\n\n-Doris Sommer, Faculty Director of Cultural Agents.\n\nFor mor
 e information visit http://neighborsforneighbors.org/events/building-c
 ommunities-online
DTSTART:20090806T223000Z
DTEND:20090807T000000Z
CATEGORIES:panel
LOCATION:City Year Headquarters
WEBSITE:http://thenewprosperity.org
URL:http://thenewprosperity.org
CONTACT:857-222-4420
ORGANIZER;CN="Joseph Porcelli (Chief Neighbor)":http://neighborsfornei
 ghbors.org/profile/josephporcelli
ATTACH;FMTTYPE="image/jpeg":http://storage.ning.com/topology/rest/1.0/
 file/get/2245117969?profile=original
ATTENDEE;ROLE=REQ-PARTICIPANT;PARTSTAT=ACCEPTED;RSVP=TRUE;CN="Joseph P
 orcelli (Chief Neighbor)":http://neighborsforneighbors.org/profile/jos
 ephporcelli
END:VEVENT
END:VCALENDAR
