BEGIN:VCALENDAR
PRODID:NingEventWidget-v1
VERSION:2.0
METHOD:PUBLISH
BEGIN:VEVENT
UID:1171189:Event:91996
DTSTAMP:20260421T223918Z
SUMMARY:Building Your Business: Master the Fundamentals of Exporting (
 CWE Boston)
DESCRIPTION:The Center for Women & Enterprise presents \"BYB: Master t
 he Fundamentals of Exporting.\"\nIf you would like to expand your busi
 ness internationally, or if you are looking for a way to increase your
  international sales, join us for this informative session to discuss 
 the most important topics, skills, and resources needed to become a su
 ccessful exporter.\nThis workshop will cover:\nInternational sales and
  marketing\nExport logistics and finance issues\nIssues related to the
  import process\nFederal and state resources that are available\n \nF
 riday, October 19, 2012 from 10:00 AM to 12:00 PM\nCenter for Women & 
 Enterprise Boston\n24 School Street, 7th Floor\nBoston, MA 02108\nFee:
   $35/2 hour class. Partial scholarship may be available. Please regi
 ster to attend. \nContact: Kaitlyn Krauskopf at 617-532-0225www.cweon
 line.org\n\nFor more information visit http://neighborsforneighbors.or
 g/events/building-your-business-master-the-fundamentals-of-exporting-c
 we
DTSTART:20121019T140000Z
DTEND:20121019T160000Z
CATEGORIES:"class/workshop"
LOCATION:Center for Women & Enterprise
WEBSITE:http://www.cweonline.org
URL:http://www.cweonline.org
CONTACT:617-536-0700
ORGANIZER:Kaitlyn Krauskopf
ATTACH;FMTTYPE="image/jpeg":
ATTENDEE;ROLE=REQ-PARTICIPANT;PARTSTAT=ACCEPTED;RSVP=TRUE;CN="Monica F
 aberman":http://neighborsforneighbors.org/profile/MonicaFaberman
END:VEVENT
END:VCALENDAR
