BEGIN:VCALENDAR
PRODID:NingEventWidget-v1
VERSION:2.0
METHOD:PUBLISH
BEGIN:VEVENT
UID:1171189:Event:128846
DTSTAMP:20260421T172226Z
SUMMARY:\"Burn Boston Burn: the Largest Arson Case in the History of t
 he Country\"
DESCRIPTION:Burn Boston Burn: the Largest Arson Case in the History of
  the Country. Book presentation given by author and former ATF Federal
  Agent Wayne M. Miller. Hosted by the Friends of the Charlestown Branc
 h of the Boston Public Library. Burn Boston Burn is a true story, of a
  deep conspiracy developed and executed by nine men, including three B
 oston cops and a Boston firefighter, all determined to wreak havoc on 
 the city and surrounding communities. It is also a story of the relent
 less investigators who eventually uncovered their plot.  In the early 
 1980s, Boston was set ablaze, coincidentally not long after tax-cuttin
 g measures caused the layoffs of hundreds of police and firefighters. 
 Over the course of two years, these “fire buffs” turned arsonists,
  were on a mission to keep the area ablaze with nightly multiple-alarm
  fires, with sirens wailing through the streets, and people too afraid
  to sleep. Two hundred sixty-four buildings were set on fire, resultin
 g in millions of dollars in damages and hundreds of injuries.  Told fr
 om the perspective of Wayne M. Miller, the head ATF Special Agent in 
 charge of the investigation during that time, Burn Boston Burn is a ho
 rrendous tale of political deceit and internal corruption. The book d
 etails the series of crimes that shook the city of Boston and became k
 nown as one of the largest arson cases on record in the history of the
  country.Free and open to all, including a book signing and reception.
  The Library is conveniently located near the Orange Line and bus conn
 ections. Charlestown Branch Library, 179 Main Street, Charlestown. For
  more information: www.friendsofcharlestownlib.org, www.facebook.com/F
 riendsCharlestownBranchLibrary, friendsofcharlestownlib@gmail.com, 617
 -242-1248.\n\nFor more information visit http://neighborsforneighbors.
 org/events/burn-boston-burn-the-largest-arson-case-in-the-history-of-t
 he
DTSTART:20200305T230000Z
DTEND:20200306T010000Z
CATEGORIES:book, presentation, and, "signing."
LOCATION:Charlestown Branch of the Boston Public Library
WEBSITE:http://www.friendsofcharlestownlib.org/news
URL:http://www.friendsofcharlestownlib.org/news
CONTACT:617-242-1248
ORGANIZER:Friends of the Charlestown Branch of the Boston Public Libra
 ry
ATTACH;FMTTYPE="image/jpeg":https://storage.ning.com/topology/rest/1.0
 /file/get/3861110951?profile=original
ATTENDEE;ROLE=REQ-PARTICIPANT;PARTSTAT=ACCEPTED;RSVP=TRUE;CN="Mary Cur
 tin":http://neighborsforneighbors.org/profile/MaryCurtin
END:VEVENT
END:VCALENDAR
