BEGIN:VCALENDAR
PRODID:NingEventWidget-v1
VERSION:2.0
METHOD:PUBLISH
BEGIN:VEVENT
UID:1171189:Event:104225
DTSTAMP:20260421T234319Z
SUMMARY:Business Basics: 10 Steps to Starting a Business – CWE Bosto
 n – Nov 6
DESCRIPTION:If you are thinking about owning a business or are in the 
 early stages of starting one, then this workshop is for you. Register 
 for this class to:\n\nFurther develop and refine your business ideas\n
 Consider your legal structure\nDiscuss choosing a name and entity\nLea
 rn how to obtain an employer identification number, licenses, permits,
  and insurance\n\nTuesday, November 6 from 12:00pm to 2:00pm CWE Bosto
 n Fee:  $40/2-hour class.  Must register to attend.  Partial schola
 rship may be available.\nRegister at: http://www.cweonline.org/NewsEve
 nts/ViewArticle/tabid/164/ArticleId/455/BYB-Crowdfunding-for-Business-
 Capital-CWE-Boston-Harvard-iLab-Nov-5.aspx\nFor more information conta
 ct Samira Ghanadyan at 617-532-0225www.cweonline.org24 School StreetBo
 ston, MA 02108\n\nFor more information visit http://neighborsforneighb
 ors.org/events/business-basics-10-steps-to-starting-a-business-cwe-bos
 ton-nov-6
DTSTART:20131106T170000Z
DTEND:20131106T190000Z
CATEGORIES:class
LOCATION:Center for Women and Enterprise
WEBSITE:http://www.cweonline.org
URL:http://www.cweonline.org
CONTACT:617-532-0225
ORGANIZER:Samira Ghanadyan
ATTACH;FMTTYPE="image/jpeg":
ATTENDEE;ROLE=REQ-PARTICIPANT;PARTSTAT=ACCEPTED;RSVP=TRUE;CN="Monica F
 aberman":http://neighborsforneighbors.org/profile/MonicaFaberman
END:VEVENT
END:VCALENDAR
