BEGIN:VCALENDAR
PRODID:NingEventWidget-v1
VERSION:2.0
METHOD:PUBLISH
BEGIN:VEVENT
UID:1171189:Event:57284
DTSTAMP:20260421T194141Z
SUMMARY:Buttoning up for Winter: A Weatherization Workshop
DESCRIPTION:Save on your energy bills, save the climate, and be more c
 omfortable in your home: How’s that for a win-win-win for the winter
 ? This Weatherization Forum will start with the basics of how heat get
 s lost in your home. Then we’ll look at ways to reduce the energy th
 at gets used intentionally and unintentionally, starting with “no br
 ainer” steps you can take (easy ways of increasing efficiency and re
 ducing demand) to great investments (slightly more challenging but emi
 nently doable) to long-term measures (more expensive and involved). We
 ’ll conclude with an overview of community resources and a door priz
 e drawing. The conversation will be led by representatives from the Bo
 ston Building Materials Co-op and Boston Climate Action Network.\n\nTh
 anks to our co-sponsors: JP Greenhouse, BCAN, Cool JP, Bikes not Bombs
 \n\nFor more information visit http://neighborsforneighbors.org/events
 /buttoning-up-for-winter-a
DTSTART:20101113T000000Z
DTEND:20101113T020000Z
CATEGORIES:workshop
LOCATION:First Church in Jamaica Plain UU, 6 Eliot Street (Across from
  the monument)
WEBSITE:
URL:
CONTACT:
ORGANIZER;CN="Liz W.":http://neighborsforneighbors.org/profile/LizW
ATTACH;FMTTYPE="image/jpeg":http://storage.ning.com/topology/rest/1.0/
 file/get/2245131422?profile=original
ATTENDEE;ROLE=REQ-PARTICIPANT;PARTSTAT=ACCEPTED;RSVP=TRUE;CN="Liz W.":
 http://neighborsforneighbors.org/profile/LizW
END:VEVENT
END:VCALENDAR
