BEGIN:VCALENDAR
PRODID:NingEventWidget-v1
VERSION:2.0
METHOD:PUBLISH
BEGIN:VEVENT
UID:1171189:Event:104487
DTSTAMP:20260421T221411Z
SUMMARY:BYB: Crowdfunding for Business Capital – CWE Boston @ Harvar
 d iLab – Nov 5
DESCRIPTION:Are you looking for alternative financing for your startup
 ?  Come to this informative program on the hottest new way to get cap
 ital to start your business: crowdfunding.  You will walk away from t
 his session understanding:\n\nWhat is crowdfunding, and what are its a
 dvantages and limitations\nThe different online crowdsourcing platform
 s available for business ventures\nWhich online platform makes the mos
 t sense for your unique business idea\nThe fundamental differences bet
 ween what is “fundable” and what is not\n\nTuesday, November 5 fro
 m 6:00pm to 8:00pm CWE Boston @ Harvard iLab Fee:  $40/2-hour class\n
  \nRegister at: http://www.cweonline.org/NewsEvents/ViewArticle/tabid
 /164/ArticleId/455/BYB-Crowdfunding-for-Business-Capital-CWE-Boston-Ha
 rvard-iLab-Nov-5.aspx\n \nFor more information contact Samira Ghanady
 an at 617-532-0225www.cweonline.org24 School Street, 7th FloorBoston, 
 MA 02108\n\nFor more information visit http://neighborsforneighbors.or
 g/events/byb-crowdfunding-for-business-capital-cwe-boston-harvard-ilab
 -nov
DTSTART:20131105T230000Z
DTEND:20131106T010000Z
CATEGORIES:class
LOCATION:Harvard iLab
WEBSITE:http://www.cweonline.org
URL:http://www.cweonline.org
CONTACT:617-532-0225
ORGANIZER:Samira Ghanadyan
ATTACH;FMTTYPE="image/jpeg":
ATTENDEE;ROLE=REQ-PARTICIPANT;PARTSTAT=ACCEPTED;RSVP=TRUE;CN="Monica F
 aberman":http://neighborsforneighbors.org/profile/MonicaFaberman
END:VEVENT
END:VCALENDAR
