BEGIN:VCALENDAR
PRODID:NingEventWidget-v1
VERSION:2.0
METHOD:PUBLISH
BEGIN:VEVENT
UID:1171189:Event:106801
DTSTAMP:20260422T011915Z
SUMMARY:BYB: Developing a Marketing Plan: One-Day Boot Camp - CWE Bost
 on - March 13
DESCRIPTION:On Thursday, March 13 from 9:00 am to 4:00pm Center for Wo
 men & Enterprise will hold a one-day boot camp for entrepreneurs who w
 ant to develop a marketing plan. As an entrepreneur, everything you do
  is a marketing opportunity. As more challenging competition and techn
 ical tools become the norm, it is essential to reach potential custome
 rs and develop loyalty in ways that are practical, convincing, clear, 
 and urgent. In this one- day workshop, you will:\n\n\nUnderstand marke
 t research and how to identify and quantify your target\nKnow how soci
 al media, direct mail, and data mining can work for you\nLearn simple 
 approaches that you can employ in promoting your business over and ove
 r again\nDevelop a tailored plan that you can start immediately, no ma
 tter how small your budget\n\n*Please bring any current marketing mate
 rials you have for your business that you would like to share, get fee
 dback or improve. (Advertisements, logos, brochures, business cards).\
 n\nThe course will take place at CWE Boston Location:\n24 School Stree
 t, 7th Floor\nBoston, MA 02108\n \nRegistration:http://www.cweonline.
 org/NewsEvents/ViewArticle/tabid/164/ArticleId/600/BYB-Developing-a-Ma
 rketing-Plan-One-Day-Boot-Camp-CWE-Boston-March-13.aspx\nFee: $195 for
  one day. Partial scholarships may be available to those who qualify.\
 nContact CWE Program Assistant Samantha Larkan either by phone or emai
 l for more information at: slarkan@cweonline.org  617-532-0255\n\nFor
  more information visit http://neighborsforneighbors.org/events/byb-de
 veloping-a-marketing-plan-one-day-boot-camp-cwe-boston
DTSTART:20140313T130000Z
DTEND:20140313T200000Z
CATEGORIES:workshop
LOCATION:Boston
WEBSITE:http://www.cweonline.org/NewsEvents/ViewArticle/tabid/164/Arti
 cleId/600/BYB-Developing-a-Marketing-Plan-One-Day-Boot-Camp-CWE-Boston
 -March-13.aspx
URL:http://www.cweonline.org/NewsEvents/ViewArticle/tabid/164/ArticleI
 d/600/BYB-Developing-a-Marketing-Plan-One-Day-Boot-Camp-CWE-Boston-Mar
 ch-13.aspx
CONTACT:617-325-0255
ORGANIZER;CN="CWE Boston":http://neighborsforneighbors.org/profile/CWE
 Boston
ATTACH;FMTTYPE="image/jpeg":
ATTENDEE;ROLE=REQ-PARTICIPANT;PARTSTAT=ACCEPTED;RSVP=TRUE;CN="CWE Bost
 on":http://neighborsforneighbors.org/profile/CWEBoston
END:VEVENT
END:VCALENDAR
