BEGIN:VCALENDAR
PRODID:NingEventWidget-v1
VERSION:2.0
METHOD:PUBLISH
BEGIN:VEVENT
UID:1171189:Event:106031
DTSTAMP:20260421T222927Z
SUMMARY:BYB@ Harvard iLab: 5 Ways to Maximize LinkedIn- Advanced Users
  Workshop- CWE Boston
DESCRIPTION:Wednesday, February 19th from 6:00 pm to 8:00pm, this inte
 nsive, hands-on workshop is designed for business owners that want to 
 quickly master their firm's business development potential through Lin
 kedIn. It's a packed agenda, including:\n\nAdvanced network building s
 trategies\nUsing LinkedIn for lead generations & prospecting\nBecome a
  LinkedIn Group power user\nHow to create and optimize your company pa
 ge\nUsing LinkedIn Mobile\n\nThe workshop will be located at:\nHarvard
  iLab\nBatten Hall\n125 Western Ave.\nAllston, MA 02163\n\nFee: $40 fo
 r 2 hours. Registration online at\nhttp://www.cweonline.org/NewsEvents
 /ViewArticle/tabid/164/ArticleId/598/BYB-5-Ways-to-Maximize-LinkedIn-A
 dvanced-Users-Workshop-CWE-Boston-February-19.aspx is required to atte
 nd.  Partial scholarship may be available to those who qualify.\n \n
 Contact CWE Program Assistant Samantha Larkan either by phone or email
  for more information at: slarkan@cweonlne.org, 617-532-0255. www.cweo
 nline.org \n \n\nFor more information visit http://neighborsforneigh
 bors.org/events/byb-harvard-ilab-5-ways-to-maximize-linkedin-advanced-
 users
DTSTART:20140219T230000Z
DTEND:20140220T010000Z
CATEGORIES:workshop
LOCATION:Harvard iLab Batten Hall 125 Western Ave. Allston, MA 02163
WEBSITE:
URL:
CONTACT:
ORGANIZER;CN="CWE Boston":http://neighborsforneighbors.org/profile/CWE
 Boston
ATTACH;FMTTYPE="image/jpeg":
ATTENDEE;ROLE=REQ-PARTICIPANT;PARTSTAT=ACCEPTED;RSVP=TRUE;CN="CWE Bost
 on":http://neighborsforneighbors.org/profile/CWEBoston
END:VEVENT
END:VCALENDAR
