BEGIN:VCALENDAR
PRODID:NingEventWidget-v1
VERSION:2.0
METHOD:PUBLISH
BEGIN:VEVENT
UID:1171189:Event:92436
DTSTAMP:20260421T215320Z
SUMMARY:Canzonare presents En Barque at Loring-Greenough House, Decemb
 er 2, 2012
DESCRIPTION:Canzonare “teases” the musical palate with little-know
 n offerings from the historical performance repertoire. Guest artist J
 oy Grimes adds the warmth of baroque violin to the tones of soprano Sa
 rah Bellott, historical flutist Kateri Chambers, and historical keyboa
 rd player Dylan Sauerwal, in their program En Barque, Patrick O'Brian'
 s seafaring Aubrey-Maturin soundtrack, on Sunday, December 2, 2012, at
  3:00 p.m. at the historic Loring-Greenough House, 12 South Street, Ja
 maica Plain.Meet Canzonare and their guests at afternoon tea following
  the program.Tickets are available at the door: donation $15 ($10 seni
 ors, students and JPTC members). Space is limited; reservations are su
 ggested—call 617-524-3158 or email lghouseconcerts@aim.com.En Barque
  is the soundtrack of J.S. Bach, Corelli, operatic excerpts, and Locat
 elli as found in  Patrick O'Brian's seafaring Napoleonic Aubrey-Matur
 in series:  \"...although [Stephen Maturin] and Jack Aubrey were almo
 st as unlike as men could be...  they were united in a deep love of m
 usic, and many and many an evening had they played together, violin an
 swering... or both singing together far into the night” [IOM:154].Ca
 nzonare will be joined by guest artists Joy Grimes, baroque violin, an
 d Emma Gavenda, harpsichord. The Loring-Greenough House is wheelchair
  accessible. For more information on the Loring-Greenough House, see w
 ww.loring-greenough.org.For reservations or directions, call (617)524-
 3158, or email  lghouseconcerts@aim.com.\n\nFor more information visi
 t http://neighborsforneighbors.org/events/canzonare-presents-en-barque
 -at-loring-greenough-house-december-2
DTSTART:20121202T200000Z
DTEND:20121202T220000Z
CATEGORIES:parlor, concert, and, tea
LOCATION:Loring-Greenough House,
WEBSITE:http://www.Loring-Greenough.org
URL:http://www.Loring-Greenough.org
CONTACT:617-524-3158
ORGANIZER;CN="Loring-Greenough House Concerts":http://neighborsforneig
 hbors.org/profile/LoringGreenoughHouseConserts
ATTACH;FMTTYPE="image/jpeg":http://storage.ning.com/topology/rest/1.0/
 file/get/2245140552?profile=original
ATTENDEE;ROLE=REQ-PARTICIPANT;PARTSTAT=ACCEPTED;RSVP=TRUE;CN="Loring-G
 reenough House Concerts":http://neighborsforneighbors.org/profile/Lori
 ngGreenoughHouseConserts
END:VEVENT
END:VCALENDAR
