BEGIN:VCALENDAR
PRODID:NingEventWidget-v1
VERSION:2.0
METHOD:PUBLISH
BEGIN:VEVENT
UID:1171189:Event:88230
DTSTAMP:20260421T194140Z
SUMMARY:Capoeira Class in JP
DESCRIPTION:Class tonight! Join us tonight and every Friday from 6:30 
 to 8:00pm!www.jamaicaplaincapoeira.com\n\nFor more information visit h
 ttp://neighborsforneighbors.org/events/capoeira-class-in-jp
DTSTART:20120127T233000Z
DTEND:20120128T010000Z
CATEGORIES:capoeira, class
LOCATION:Tony Williams Dance Center
WEBSITE:http://www.jamaicaplaincapoeira.com
URL:http://www.jamaicaplaincapoeira.com
CONTACT:
ORGANIZER;CN="Jared Williams":http://neighborsforneighbors.org/profile
 /JaredWilliams
ATTACH;FMTTYPE="image/jpeg":
ATTENDEE;ROLE=REQ-PARTICIPANT;PARTSTAT=ACCEPTED;RSVP=TRUE;CN="Jared Wi
 lliams":http://neighborsforneighbors.org/profile/JaredWilliams
END:VEVENT
END:VCALENDAR
