BEGIN:VCALENDAR
PRODID:NingEventWidget-v1
VERSION:2.0
METHOD:PUBLISH
BEGIN:VEVENT
UID:1171189:Event:87969
DTSTAMP:20260421T182001Z
SUMMARY:Capoeira Classes EVERY FRIDAY in JP
DESCRIPTION:Come join us Friday evenings at Tony Williams Dance Center
  and try this amazing Afro-Brazilian art form. First class only $5 dol
 lars, $15 drop in rate thereafter.\nhttp://jamaicaplaincapoeira.com/\n
 \nHope to see you there!\nLeopardo\n\nFor more information visit http:
 //neighborsforneighbors.org/events/capoeira-classes-every-friday-in-jp
DTSTART:20120120T233000Z
DTEND:20121229T010000Z
CATEGORIES:capoeira, class
LOCATION:Tony Williams Dance Center
WEBSITE:http://jamaicaplaincapoeira.com/
URL:http://jamaicaplaincapoeira.com/
CONTACT:
ORGANIZER;CN="Jared Williams":http://neighborsforneighbors.org/profile
 /JaredWilliams
ATTACH;FMTTYPE="image/jpeg":
ATTENDEE;ROLE=REQ-PARTICIPANT;PARTSTAT=ACCEPTED;RSVP=TRUE;CN="Jared Wi
 lliams":http://neighborsforneighbors.org/profile/JaredWilliams
END:VEVENT
END:VCALENDAR
