BEGIN:VCALENDAR
PRODID:NingEventWidget-v1
VERSION:2.0
METHOD:PUBLISH
BEGIN:VEVENT
UID:1171189:Event:74613
DTSTAMP:20260421T194054Z
SUMMARY:Capoeira Classes in JP!
DESCRIPTION:Classes every Friday at Tony Williams Dance Cenetr and Sun
 days in the park.\nClasses are $5 for the first class, $15 for the sec
 ond or $40 for a monthly package.\nSee you there!\n\nFor more informat
 ion visit http://neighborsforneighbors.org/events/capoeira-classes-in-
 jp
DTSTART:20110610T223000Z
DTEND:20110611T000000Z
CATEGORIES:martial, arts, class
LOCATION:Tony Williams Dance Center, the Brewery Building
WEBSITE:http://jamaicaplaincapoeira.com/
URL:http://jamaicaplaincapoeira.com/
CONTACT:
ORGANIZER;CN="Jared Williams":http://neighborsforneighbors.org/profile
 /JaredWilliams
ATTACH;FMTTYPE="image/jpeg":
ATTENDEE;ROLE=REQ-PARTICIPANT;PARTSTAT=ACCEPTED;RSVP=TRUE;CN="Jared Wi
 lliams":http://neighborsforneighbors.org/profile/JaredWilliams
END:VEVENT
END:VCALENDAR
