BEGIN:VCALENDAR
PRODID:NingEventWidget-v1
VERSION:2.0
METHOD:PUBLISH
BEGIN:VEVENT
UID:1171189:Event:89251
DTSTAMP:20260421T200044Z
SUMMARY:Casey Overpass Meeting with MassDOT
DESCRIPTION:Recently MassDOT announced the decision to proceed with th
 e at-grade solution for the reconstruction of the Casey Overpass in Ja
 maica Plain. A public information meeting will be held on March 29th t
 o present the selected alternative, and to address public involvement 
 as the project moves into the 25% design phase. The official meeting n
 otice can be found at http://www.massdot.state.ma.us/caseyoverpass.\nW
 hen: Thursday, March 29, 2012  |  6PM - 8PM\nWhere: English High Sch
 ool Auditorium | 144 McBride Street\n\nFor more information visit http
 ://neighborsforneighbors.org/events/casey-overpass-meeting-with-massdo
 t
DTSTART:20120329T220000Z
DTEND:20120330T000000Z
CATEGORIES:development
LOCATION:English High School Auditorium
WEBSITE:http://www.massdot.state.ma.us/caseyoverpass
URL:http://www.massdot.state.ma.us/caseyoverpass
CONTACT:
ORGANIZER;CN="Dan Hermes":http://neighborsforneighbors.org/profile/Dan
 Hermes
ATTACH;FMTTYPE="image/jpeg":
ATTENDEE;ROLE=REQ-PARTICIPANT;PARTSTAT=ACCEPTED;RSVP=TRUE;CN="Dan Herm
 es":http://neighborsforneighbors.org/profile/DanHermes
END:VEVENT
END:VCALENDAR
