BEGIN:VCALENDAR
PRODID:NingEventWidget-v1
VERSION:2.0
METHOD:PUBLISH
BEGIN:VEVENT
UID:1171189:Event:79811
DTSTAMP:20260421T200516Z
SUMMARY:\"Catch a Fire\" all-you-can-eat Caribbean BBQ + Live Reggae
DESCRIPTION:On Tuesday, August 30, Bella Luna Restaurant & Milky Way L
 ounge proudly present \"Catch A Fire\" - a celebration of Caribbean fo
 od, drink and music. The night will include a Bar-B-Q on our outdoor p
 atio, Jamaican beers and mixed drinks, and live Reggae by Jah-N-I Root
 s Band. From 6:00 to 9:00, guests can enjoy an all-you-can-eat food of
  the caribbean and live entertainment for only $30. Bella Luna Restaur
 ants' executive chef, Sam Putnam will be manning the grill. Cooking up
  everything from jerk-rubbed BBQ chicken, to Jamaican goat curry, to v
 egan Jamaican curry, there are delicious options for everybody. The ba
 r team will be concocting traditional caribbean beverages such as rum 
 runners and dark and stormys as well as stocking traditional Jamaican 
 beers. Performing world-renowned reggae, Jah-N-I Roots Band will take 
 the stage and perform two sets of lively music to round out the evenin
 g.  Celebrate the end of Summer, food and drinks of the Caribbean and
  entertainment with Bella Luna Restaurant & Milky Way Lounge and Jah-N
 -I Roots Band on Tuesday, August 30 from 6:00 - 9:00pm. Our mission is
  to create community through delicious food & beverages, art & music; 
 to be a gathering place where everyone feels comfortable and has fun; 
 and to build a better Boston by supporting the work of local non-profi
 t organizations.\n \nTables can be reserved at opentable.com\nPlease 
 note \"Catch a Fire\"  \n\nFor more information visit http://neighbor
 sforneighbors.org/events/catch-a-fire-all-you-can-eat-caribbean-bbq-li
 ve-reggae
DTSTART:20110830T220000Z
DTEND:20110831T010000Z
CATEGORIES:bbq, live, music
LOCATION:Bella Luna Restaurant & Milky Way Lounge
WEBSITE:http://www.milkywayjp.com
URL:http://www.milkywayjp.com
CONTACT:6175243740
ORGANIZER;CN="Carol Downs":http://neighborsforneighbors.org/profile/Ca
 rolDowns
ATTACH;FMTTYPE="image/jpeg":
ATTENDEE;ROLE=REQ-PARTICIPANT;PARTSTAT=ACCEPTED;RSVP=TRUE;CN="Carol Do
 wns":http://neighborsforneighbors.org/profile/CarolDowns
END:VEVENT
END:VCALENDAR
