BEGIN:VCALENDAR
PRODID:NingEventWidget-v1
VERSION:2.0
METHOD:PUBLISH
BEGIN:VEVENT
UID:1171189:Event:115112
DTSTAMP:20260421T172415Z
SUMMARY:Celebrating Moving Towards a Cancer-Free Economy
DESCRIPTION:\n\nwww.toxicsaction.org/Celebration\nEvery year more and 
 more studies come out linking chemicals in our products, in pesticides
  and in our work-places to different cancers. We've teamed up with JPN
 et and the Lowell Center for Sustainable Production to move businesses
  in our neighborhoods away from toxic chemicals and towards safer alte
 rnatives.\n\nLearn more from the experts about how we've already start
 ed to build the new cancer-free local economy and how you can help. Fo
 od and drinks served.\n\nSuggested donation is $100, though we welcome
  all attendees. This is an open invite event. Please bring a friend or
  neighbor along with you to learn more about how we can build a cancer
 -free economy!\n\nRSVP for the party here.\n\nFor more information vis
 it http://neighborsforneighbors.org/events/celebrating-moving-towards-
 a-cancer-free-economy
DTSTART:20151201T000000Z
DTEND:20151201T020000Z
CATEGORIES:fundraiser
LOCATION:Urbano Project
WEBSITE:http://www.toxicsaction.org/celebration
URL:http://www.toxicsaction.org/celebration
CONTACT:6172978653
ORGANIZER;CN="Megan Stokes":http://neighborsforneighbors.org/profile/M
 eganStokes
ATTACH;FMTTYPE="image/jpeg":
ATTENDEE;ROLE=REQ-PARTICIPANT;PARTSTAT=ACCEPTED;RSVP=TRUE;CN="Megan St
 okes":http://neighborsforneighbors.org/profile/MeganStokes
END:VEVENT
END:VCALENDAR
