BEGIN:VCALENDAR
PRODID:NingEventWidget-v1
VERSION:2.0
METHOD:PUBLISH
BEGIN:VEVENT
UID:1171189:Event:48651
DTSTAMP:20260421T181931Z
SUMMARY:Celtic vs Sporting Lisbon
DESCRIPTION:Watch the first soccer game to be played at Fenway since P
 ele was there in 1969!\nThe mighty Celtic take on the legendary Sporti
 ng Lisbon at Fenway Park on June 21st. The Haven, being Boston's only 
 Scottish pub, will be screening the game live from 8pm.\nYou can sit d
 own and have Haggis whilst watching the game!\n\nFor more information 
 visit http://neighborsforneighbors.org/events/celtic-vs-sporting-lisbo
 n
DTSTART:20100722T000000Z
DTEND:20100722T030000Z
CATEGORIES:live, sports, event
LOCATION:The Haven
WEBSITE:http://www.thehavenjp.com
URL:http://www.thehavenjp.com
CONTACT:617-524 2836
ORGANIZER;CN="Jason Waddleton":http://neighborsforneighbors.org/profil
 e/JasonWaddleton
ATTACH;FMTTYPE="image/jpeg":
ATTENDEE;ROLE=REQ-PARTICIPANT;PARTSTAT=ACCEPTED;RSVP=TRUE;CN="Jason Wa
 ddleton":http://neighborsforneighbors.org/profile/JasonWaddleton
END:VEVENT
END:VCALENDAR
