BEGIN:VCALENDAR
PRODID:NingEventWidget-v1
VERSION:2.0
METHOD:PUBLISH
BEGIN:VEVENT
UID:1171189:Event:106543
DTSTAMP:20260421T222933Z
SUMMARY:Central Jamaica Plain 3BD Condo
DESCRIPTION:Extraordinary condominium with excellent plan and three sp
 acious bedrooms. Overlooking Beecher Street Park & Gardens. Modern kit
 chen with quality cabinets, stainless steel appliances and granite cou
 ntertops. Master bedroom with walk in closet/laundry. Large, tall base
 ment with deeded storage and bulkhead for getting your gear in and out
  easily. Excellent, owner occupied association with a history of build
 ing maintenance and good reserves. Ideal Central Jamaica Plain locatio
 n 2 blocks from Stony Brook T and a very short walk to Southwest Corri
 dor Bike Path, recreational fields and playgrounds, City Feed & Supply
 , Whole Foods, Canary Square, The Haven, and dozens of other pubs, res
 taurants and boutiques that make Jamaica Plain such an amazing place t
 o live. — MLSPIN #: 71634692\n\nFor more information visit http://ne
 ighborsforneighbors.org/events/central-jamaica-plain-3bd-condo
DTSTART:20140223T170000Z
DTEND:20140223T183000Z
CATEGORIES:open, house
LOCATION:Central Jamaica Plain
WEBSITE:http://www.thebostonhometeam.com/properties/Boston/Jamaica-Pla
 in/Chestnut-Ave/18286529
URL:http://www.thebostonhometeam.com/properties/Boston/Jamaica-Plain/C
 hestnut-Ave/18286529
CONTACT:6178287956
ORGANIZER;CN="William Brokhof":http://neighborsforneighbors.org/profil
 e/WilliamBrokhof155
ATTACH;FMTTYPE="image/jpeg":http://storage.ning.com/topology/rest/1.0/
 file/get/2245142250?profile=original
ATTENDEE;ROLE=REQ-PARTICIPANT;PARTSTAT=ACCEPTED;RSVP=TRUE;CN="William 
 Brokhof":http://neighborsforneighbors.org/profile/WilliamBrokhof155
END:VEVENT
END:VCALENDAR
