BEGIN:VCALENDAR
PRODID:NingEventWidget-v1
VERSION:2.0
METHOD:PUBLISH
BEGIN:VEVENT
UID:1171189:Event:115764
DTSTAMP:20260421T190934Z
SUMMARY:Changing Lanes, a Children's Musical Theatre
DESCRIPTION:CHANGING LANES\nan original play by Steven Yakutis, featur
 ing the students of Neighborhood School\n \nFriday, March 11 at 7:00 
 p.m.\nSaturday, March 12, 2014 at 3:00 p.m.\nMedia Arts Center, Roxbur
 y Community College\n1234 Columbus Ave, Roxbury Crossing, MA 02120\nAd
 mission by donation at the door\nAppropriate for audiences ages 4 and 
 up\n \n\nThe citizens of Fairview Junction have differing opinions on
  how to spend the new grant money awarded to their neighborhood. Cycli
 sts are certain that more bike lanes are the right choice; commuters w
 ant to see improved bus lines. Actors ages 6-12 explore the challenges
  and joys of seeking win-win situations while looking for ways that ea
 ch person’s voice can be heard. Music and dance help illuminate the 
 path, but will our fair city end up ensnarled in a traffic jam of diff
 ering opinions?\n \nNeighborhood School is a small, independent schoo
 l in Jamaica Plain that offers transformative, personalized learning f
 or children representing the ethnic and socioeconomic diversity of Bos
 ton’s neighborhoods in an atmosphere of respect and consistent carin
 g. Our biennial school play features every student grades 1-6, and is 
 integrated into the curriculum as important learning in confidence-bui
 lding and teamwork\n \n\nFor more information visit http://neighborsf
 orneighbors.org/events/changing-lanes-a-children-s-musical-theatre
DTSTART:20160312T000000Z
DTEND:20160312T020000Z
CATEGORIES:"children's", theatre
LOCATION:Media Arts Center, Roxbury Community College
WEBSITE:https://www.google.com/maps/place/Roxbury+Community+College/@4
 2.3294511,-71.0978344,17z/data=!3m1!4b1!4m2!3m1!1s0x89e37a2872460073:0
 xd20b3bbb438a9cfa
URL:https://www.google.com/maps/place/Roxbury+Community+College/@42.32
 94511,-71.0978344,17z/data=!3m1!4b1!4m2!3m1!1s0x89e37a2872460073:0xd20
 b3bbb438a9cfa
CONTACT:
ORGANIZER:Neighborhood School Jamaica Plain
ATTACH;FMTTYPE="image/jpeg":http://storage.ning.com/topology/rest/1.0/
 file/get/2245142698?profile=original
ATTENDEE;ROLE=REQ-PARTICIPANT;PARTSTAT=ACCEPTED;RSVP=TRUE;CN="Christin
 e Fischer-Rothman":http://neighborsforneighbors.org/profile/ChristineF
 ischerRothman
END:VEVENT
END:VCALENDAR
