BEGIN:VCALENDAR
PRODID:NingEventWidget-v1
VERSION:2.0
METHOD:PUBLISH
BEGIN:VEVENT
UID:1171189:Event:59021
DTSTAMP:20260421T195920Z
SUMMARY:Changing Together: A Positive Response to Community Violence
DESCRIPTION:To join the conversation on sex ed and learn how Hyde Squa
 re Task Force is responding to the recent wave of violence in our comm
 unity, please join us this Tuesday, December 7 at 6:15pm for \"Changin
 g Together. Stories and Conversations on Youth and Transformation.\"\n
 \nChanging Together is a series of informal gatherings to learn more a
 bout the organization and its programs, scheduled for the first Tuesda
 y of each month at the Hyde Square Task Force Cheverus Building behind
  the Blessed Sacrament Church.\n\nHyde Square Task Force launches new 
 Changing Together series. Yearning to see Hyde Square Task Force for y
 ourself? Not sure exactly what \"youth leadership development\" means?
  Interested in hearing a participant perspective on HSTF?\n\nThen Chan
 ging Together is right for you!\n\nHSTF holds Changing Together the fi
 rst Tuesday of every month. These gatherings are an informal way for y
 ou to meet other HSTF supporters, learn more about our programs from t
 he youth themselves, and find out how YOU can help make a difference.\
 n\nChanging Together:\nStories and Conversations of Youth and Transfor
 mation\nWHEN: First Tuesday of the month\n(upcoming dates: December 7t
 h)\nTIME: 6:15-7:30 PM\nLOCATION: HSTF's Cheverus Building, 365 Centre
  Street, Jamaica Plain\n\nFor more information or to RSVP for one of o
 ur upcoming gatherings, please e-mail info@hydesquare.org or call (617
 )524-8303.\n\nFor more information visit http://neighborsforneighbors.
 org/events/changing-together-a-positive
DTSTART:20101207T231500Z
DTEND:20101208T003000Z
CATEGORIES:discussion
LOCATION:HSTF's Cheverus Building
WEBSITE:http://www.hydesquare.org/index.html
URL:http://www.hydesquare.org/index.html
CONTACT:(617)524-8303.
ORGANIZER:Hyde Square Task Force
ATTACH;FMTTYPE="image/jpeg":
ATTENDEE;ROLE=REQ-PARTICIPANT;PARTSTAT=TENTATIVE;RSVP=TRUE;CN=Alison:h
 ttp://neighborsforneighbors.org/profile/Alison
END:VEVENT
END:VCALENDAR
