BEGIN:VCALENDAR
PRODID:NingEventWidget-v1
VERSION:2.0
METHOD:PUBLISH
BEGIN:VEVENT
UID:1171189:Event:88945
DTSTAMP:20260421T190146Z
SUMMARY:Children's Theatre \"Time and Time Again\"
DESCRIPTION:Children’s Theatre - “Time and Time Again,” an origi
 nal play with music, on Friday, March 9 at 7:00 pm and Saturday, March
  10 at 3:00 pm. performed by the Neighborhood School. During the play 
 a time capsule from 1912 is discovered by a group of curious students 
 who magically catch a glimpse of the heart of Boston past, present and
  future. One scene relives Opening Day at the Franklin Park Zoo, 100 y
 ears ago, when 10,000 people come to see the new bear dens. Location: 
 Mainstage Theatre, Roxbury Community College at the corner of Columbus
  Avenue and Tremont Street (Roxbury Crossing).  Suggested admission:
  $5 adults / $3 students. For more information: 617-522-0880 / www.nei
 ghborhoodschooljp.org\n\nFor more information visit http://neighborsfo
 rneighbors.org/events/children-s-theatre-time-and-time-again-1
DTSTART:20120310T200000Z
DTEND:20120310T220000Z
CATEGORIES:"children's", theatre
LOCATION:Mainstage Theatre, Roxbury Community College
WEBSITE:http://www.neighborhoodschooljp.org
URL:http://www.neighborhoodschooljp.org
CONTACT:617 522 0880
ORGANIZER:Neighborhood School Tricia Morrow
ATTACH;FMTTYPE="image/jpeg":http://storage.ning.com/topology/rest/1.0/
 file/get/2245137339?profile=original
ATTENDEE;ROLE=REQ-PARTICIPANT;PARTSTAT=ACCEPTED;RSVP=TRUE;CN="Christin
 e Fischer-Rothman":http://neighborsforneighbors.org/profile/ChristineF
 ischerRothman
END:VEVENT
END:VCALENDAR
