BEGIN:VCALENDAR
PRODID:NingEventWidget-v1
VERSION:2.0
METHOD:PUBLISH
BEGIN:VEVENT
UID:1171189:Event:94357
DTSTAMP:20260421T223035Z
SUMMARY:Christ the King Preview Service
DESCRIPTION:Join us Sunday, February 24th at 4pm for a preview of a ne
 w church in the neighborhood. Come find out more about Christ the King
 - JP/Roxbury, hear our music team, and stick around afterwards for a m
 eal. \n\nctkneighborhoodchurch.org\n\nFor more information visit http
 ://neighborsforneighbors.org/events/christ-the-king-preview-service
DTSTART:20130224T210000Z
DTEND:20130224T230000Z
CATEGORIES:new, church, service
LOCATION:San Andres Church Building
WEBSITE:https://maps.google.com/maps?hl=en&q=169+amory+street,+boston,
 +ma&ie=UTF-8&hq=&hnear=0x89e3797eeae213ed:0x7eca4796d1f20b68,169+Amory
 +St,+Jamaica+Plain,+MA+02130&gl=us&ei=EDYlUfPQNebo0QGg14Aw&ved=0CDAQ8g
 EwAA
URL:https://maps.google.com/maps?hl=en&q=169+amory+street,+boston,+ma&
 ie=UTF-8&hq=&hnear=0x89e3797eeae213ed:0x7eca4796d1f20b68,169+Amory+St,
 +Jamaica+Plain,+MA+02130&gl=us&ei=EDYlUfPQNebo0QGg14Aw&ved=0CDAQ8gEwAA
CONTACT:6175069345
ORGANIZER;CN="Logan Keck":http://neighborsforneighbors.org/profile/Log
 anKeck
ATTACH;FMTTYPE="image/jpeg":
ATTENDEE;ROLE=REQ-PARTICIPANT;PARTSTAT=ACCEPTED;RSVP=TRUE;CN="Logan Ke
 ck":http://neighborsforneighbors.org/profile/LoganKeck
END:VEVENT
END:VCALENDAR
