BEGIN:VCALENDAR
PRODID:NingEventWidget-v1
VERSION:2.0
METHOD:PUBLISH
BEGIN:VEVENT
UID:1171189:Event:32961
DTSTAMP:20260420T051217Z
SUMMARY:Christmas Eve Candle Light Service
DESCRIPTION:Celebrate with your neighbors the birth of our Lord!\n\nVi
 sit River of Life this Christmas Eve for a candle light worship servic
 e.\n\n7pm on Christmas Eve\nRiver of Life Church\n440 Centre St. JP\n\
 nMerry Christmas and please invite others!\n\nFor more information vis
 it http://neighborsforneighbors.org/events/christmas-eve-candle-light
DTSTART:20091225T000000Z
DTEND:20091225T010000Z
CATEGORIES:christmas, worship, service
LOCATION:River of Life Church, Boston, MA
WEBSITE:http://www.rolcboston.org
URL:http://www.rolcboston.org
CONTACT:
ORGANIZER:
ATTACH;FMTTYPE="image/jpeg":http://storage.ning.com/topology/rest/1.0/
 file/get/2245120685?profile=original
ATTENDEE;ROLE=REQ-PARTICIPANT;PARTSTAT=ACCEPTED;RSVP=TRUE;CN="Tom Grif
 fith":http://neighborsforneighbors.org/profile/TomGriffith
ATTENDEE;ROLE=REQ-PARTICIPANT;PARTSTAT=ACCEPTED;RSVP=TRUE;CN="Erin Sco
 tt -- Community Manager":http://neighborsforneighbors.org/profile/Erin
 Scott
END:VEVENT
END:VCALENDAR
