BEGIN:VCALENDAR
PRODID:NingEventWidget-v1
VERSION:2.0
METHOD:PUBLISH
BEGIN:VEVENT
UID:1171189:Event:87033
DTSTAMP:20260421T182801Z
SUMMARY:Christmas Eve Candlelight Service at River of Life
DESCRIPTION:We invite the community to join us this Saturday at 7pm fo
 r our Christmas Eve Candlelight Service!\n\n\n\n\nFor more information
  visit http://neighborsforneighbors.org/events/christmas-eve-candlelig
 ht-service-at-river-of-life
DTSTART:20111225T000000Z
DTEND:20111225T010000Z
CATEGORIES:candlelight, service
LOCATION:River of Life Church
WEBSITE:http://www.rolcboston.org
URL:http://www.rolcboston.org
CONTACT:617.942.3586
ORGANIZER;CN="River of Life Church":http://neighborsforneighbors.org/p
 rofile/RiverofLifeChurch
ATTACH;FMTTYPE="image/jpeg":http://storage.ning.com/topology/rest/1.0/
 file/get/2245135661?profile=original
ATTENDEE;ROLE=REQ-PARTICIPANT;PARTSTAT=ACCEPTED;RSVP=TRUE;CN="River of
  Life Church":http://neighborsforneighbors.org/profile/RiverofLifeChur
 ch
END:VEVENT
END:VCALENDAR
