BEGIN:VCALENDAR
PRODID:NingEventWidget-v1
VERSION:2.0
METHOD:PUBLISH
BEGIN:VEVENT
UID:1171189:Event:59567
DTSTAMP:20260421T164043Z
SUMMARY:Christmas Eve Candlelight Service
DESCRIPTION:\n\nFor more information visit http://neighborsforneighbor
 s.org/events/christmas-eve-candlelight
DTSTART:20101225T000000Z
DTEND:20101225T010000Z
CATEGORIES:service
LOCATION:River of Life Church
WEBSITE:http://www.rolcboston.org
URL:http://www.rolcboston.org
CONTACT:617.534.3478
ORGANIZER;CN="River of Life Church":http://neighborsforneighbors.org/p
 rofile/RiverofLifeChurch
ATTACH;FMTTYPE="image/jpeg":http://storage.ning.com/topology/rest/1.0/
 file/get/2245131754?profile=original
ATTENDEE;ROLE=REQ-PARTICIPANT;PARTSTAT=ACCEPTED;RSVP=TRUE;CN="Pamela L
 erch":http://neighborsforneighbors.org/profile/PamelaLerch
ATTENDEE;ROLE=REQ-PARTICIPANT;PARTSTAT=ACCEPTED;RSVP=TRUE;CN="Erin Sco
 tt -- Community Manager":http://neighborsforneighbors.org/profile/Erin
 Scott
ATTENDEE;ROLE=REQ-PARTICIPANT;PARTSTAT=ACCEPTED;RSVP=TRUE;CN="River of
  Life Church":http://neighborsforneighbors.org/profile/RiverofLifeChur
 ch
ATTENDEE;ROLE=REQ-PARTICIPANT;PARTSTAT=TENTATIVE;RSVP=TRUE;CN="Natalia
  Chilcote":http://neighborsforneighbors.org/profile/NataliaChilcote
END:VEVENT
END:VCALENDAR
