BEGIN:VCALENDAR
PRODID:NingEventWidget-v1
VERSION:2.0
METHOD:PUBLISH
BEGIN:VEVENT
UID:1171189:Event:60122
DTSTAMP:20260421T200109Z
SUMMARY:Christmas Eve Services
DESCRIPTION:Carols, candles, a manger and more...\nHear the Story--an 
 oppressive regime, a pregnant teen, ancient promises and a newborn kin
 g\nEnter the Story--bring an offering to help the hungry and homeless 
 locally and those needing clean water globally\nFriday, Dec. 24, 7pm &
  9pm\nCovenant Congregational Church455 Arborway, JPnear Forest Hills,
  next to the courthouse\n\nFor more information visit http://neighbors
 forneighbors.org/events/christmas-eve-services
DTSTART:20101225T000000Z
DTEND:20101225T031500Z
CATEGORIES:communit, spiritual, religious
LOCATION:Forest Hills, Jamaica Plain
WEBSITE:http://www.bostoncov.org
URL:http://www.bostoncov.org
CONTACT:617-524-0775
ORGANIZER;CN="Fred Elliott-Hart":http://neighborsforneighbors.org/prof
 ile/FredElliottHart
ATTACH;FMTTYPE="image/jpeg":http://storage.ning.com/topology/rest/1.0/
 file/get/2245131672?profile=original
ATTENDEE;ROLE=REQ-PARTICIPANT;PARTSTAT=ACCEPTED;RSVP=TRUE;CN="Fred Ell
 iott-Hart":http://neighborsforneighbors.org/profile/FredElliottHart
END:VEVENT
END:VCALENDAR
