BEGIN:VCALENDAR
PRODID:NingEventWidget-v1
VERSION:2.0
METHOD:PUBLISH
BEGIN:VEVENT
UID:1171189:Event:86660
DTSTAMP:20260422T011414Z
SUMMARY:Christmas Musical Extravaganza for the Whole Family
DESCRIPTION:Mars Hill Fellowship Church invites the Alston, Brighton, 
 Brookline and Greater Boston Community to join us for our upcoming Chr
 istmas Musical Extravaganza on Friday, December 9, 2011. \n \nStarti
 ng at 7:30 PM, there will be food, games, and plenty of great music. T
 he Extravaganza is a great time for the whole family to join together 
 in singing Christmas carols and hearing the timeless beauty of the Chr
 istmas story through words and music. \n \nThe selections include Ch
 ristmas Carols + Hymns, Gospel Worship, Jazz Standards, Classical Rend
 itions, Funky Blues, Opera, and World Music. Special joint worship tea
 m with Worship Frontiers Church.\n \nAdmission is FREE and open to th
 e entire community.\n \n\nFor more information visit http://neighbors
 forneighbors.org/events/christmas-musical-extravaganza-for-the-whole-f
 amily
DTSTART:20111210T003000Z
DTEND:20111210T023000Z
CATEGORIES:christmas, concert
LOCATION:Holiday Inn Brookline
WEBSITE:http://www.marshillfellowship.com/event/2011-12-09-christmas-m
 usical-extravaganza/
URL:http://www.marshillfellowship.com/event/2011-12-09-christmas-music
 al-extravaganza/
CONTACT:617-459-4001
ORGANIZER:Pastor Joseph Ardayfio
ATTACH;FMTTYPE="image/jpeg":http://storage.ning.com/topology/rest/1.0/
 file/get/2245135929?profile=original
ATTENDEE;ROLE=REQ-PARTICIPANT;PARTSTAT=ACCEPTED;RSVP=TRUE;CN="Joseph A
 rdayfio":http://neighborsforneighbors.org/profile/JosephArdayfio
END:VEVENT
END:VCALENDAR
