BEGIN:VCALENDAR
PRODID:NingEventWidget-v1
VERSION:2.0
METHOD:PUBLISH
BEGIN:VEVENT
UID:1171189:Event:90734
DTSTAMP:20260421T200109Z
SUMMARY:Circle The City
DESCRIPTION:Circle The City is a free open streets event connecting Bo
 ston's residents and visitors to its urban resources, parks.See you in
  the streets!\nWebsite: http://www.emeraldnecklace.org/circle-the-city
 /Tweet: @CircleCityBosLike us on Facebook: Circle The City BostonCheck
  out our website for volunteer and community activity opportunities! 
 \n\nFor more information visit http://neighborsforneighbors.org/events
 /circle-the-city
DTSTART:20120805T140000Z
DTEND:20120805T180000Z
CATEGORIES:special, event
LOCATION:Rose Kennedy Greenway
WEBSITE:
URL:
CONTACT:
ORGANIZER;CN="Meaghan Morris":http://neighborsforneighbors.org/profile
 /MeaghanMorris
ATTACH;FMTTYPE="image/jpeg":http://storage.ning.com/topology/rest/1.0/
 file/get/2245139837?profile=original
ATTENDEE;ROLE=REQ-PARTICIPANT;PARTSTAT=ACCEPTED;RSVP=TRUE;CN="Meaghan 
 Morris":http://neighborsforneighbors.org/profile/MeaghanMorris
END:VEVENT
END:VCALENDAR
